BEGIN:VCALENDAR
VERSION:2.0
PRODID:-//ChamberMaster//Event Calendar 2.0//EN
METHOD:PUBLISH
X-PUBLISHED-TTL:P3D
REFRESH-INTERVAL:P3D
CALSCALE:GREGORIAN
BEGIN:VEVENT
DTSTART:20170127T200000Z
DTEND:20170128T010000Z
X-MICROSOFT-CDO-ALLDAYEVENT:FALSE
SUMMARY:Mendocino Figure Drawing Collective Exhibition
DESCRIPTION:The Mendocino Figure Drawing Collectiveâ€™s (MFDC) 10th Biennial Exhibition at the Mendocino Art Center includes the most sensual and mature work of the group to date\, with sixty dynamic drawings by featured artists Jeanne Williams\, Miriam Wadiaeff\, Fred Struthers\, Robert Ross\, Don Paglia\, Dale Moyer\, Sanna Koski\, Patrick Keller\, Steve Garner\, Gail Coulson\, Lillian Cartwright\, Kathy Carl\, Becky Bowen\, Gemma Barsby and Daniel Barrett.Â The drawing group has been meeting weekly for 25 years\, primarily as part of the Art Centerâ€™s traditional arts program. A loose-knit association of artists and models\, MFDC has served hundreds of local and visiting artists\, has generated many thousands of figure studies\, and has been honored with a dozen or so group exhibitions. The workshops are founded on centuries-old principles of art\, treating the human body as a source of structural anatomy observation\, empathy\, visual pleasure\, and graphic inspiration.Â MFDC welcomes drop-ins at their Wednesday afternoon uninstructed sessions. Current fees are $11 per three-hour session\, or $10 per session paid by the month. Bring your own materials (no solvents).more informationÂ Â Second Saturday Gallery Reception & Open Studios:February 11\, Open Studios: 4pm-8pm\, Reception: 5pm-8pmFree admissionÂ Enjoy snacks and wine\, and meet Howard Wheatley Allen\, Rosemary Allen\, Daniel Parker\, and members of the Mendocino Figure Drawing Collective. Join us prior to the gallery reception as we open up the art studios. Starting at 4:00 p.m. and continuing until 8:00 p.m.\, the Mendocino Art Center will also open its art studios to the public. Meet the 2016/17 Artists in Residence\, watch them work and view new artwork created in the Mendocino Art Center studios. Refreshments will be available.
X-ALT-DESC;FMTTYPE=text/html:<p>The Mendocino Figure Drawing Collectiveâ€™s (MFDC) 10<sup>th</sup> Biennial Exhibition at the Mendocino Art Center includes the most sensual and mature work of the group to date\, with sixty dynamic drawings by featured artists Jeanne Williams\, Miriam Wadiaeff\, Fred Struthers\, Robert Ross\, Don Paglia\, Dale Moyer\, Sanna Koski\, Patrick Keller\, Steve Garner\, Gail Coulson\, Lillian Cartwright\, Kathy Carl\, Becky Bowen\, Gemma Barsby and Daniel Barrett.</p><p>Â </p><p>The drawing group has been meeting weekly for 25 years\, primarily as part of the Art Centerâ€™s traditional arts program. A loose-knit association of artists and models\, MFDC has served hundreds of local and visiting artists\, has generated many thousands of figure studies\, and has been honored with a dozen or so group exhibitions. The workshops are founded on centuries-old principles of art\, treating the human body as a source of structural anatomy observation\, empathy\, visual pleasure\, and graphic inspiration.</p><p>Â </p><p>MFDC welcomes drop-ins at their Wednesday afternoon uninstructed sessions. Current fees are $11 per three-hour session\, or $10 per session paid by the month. Bring your own materials (no solvents).</p><p><strong><a href="http://www.mendocinoartcenter.org/MyLasso/MainGallery-February-2017.lasso">more information</a></strong></p><p>Â </p><p>Â </p><p><strong>Second Saturday Gallery Reception &amp\; Open Studios:</strong></p><p><strong>February 11\, Open Studios: 4pm-8pm\, Reception: 5pm-8pm</strong></p><p>Free admission</p><p>Â </p><p>Enjoy snacks and wine\, and meet Howard Wheatley Allen\, Rosemary Allen\, Daniel Parker\, and members of the Mendocino Figure Drawing Collective. Join us prior to the gallery reception as we open up the art studios. Starting at 4:00 p.m. and continuing until 8:00 p.m.\, the Mendocino Art Center will also open its art studios to the public. Meet the 2016/17 Artists in Residence\, watch them work and view new artwork created in the Mendocino Art Center studios. Refreshments will be available.</p>
LOCATION:Mendocino Art Center
UID:e.2883.1106
SEQUENCE:3
DTSTAMP:20260424T110143Z
URL:http://mendocinocoast.smartcms.site/events/details/mendocino-figure-drawing-collective-exhibition-01-27-2017-1106
END:VEVENT

END:VCALENDAR
