BEGIN:VCALENDAR
VERSION:2.0
PRODID:-//ChamberMaster//Event Calendar 2.0//EN
METHOD:PUBLISH
X-PUBLISHED-TTL:P3D
REFRESH-INTERVAL:P3D
CALSCALE:GREGORIAN
BEGIN:VEVENT
DTSTART:20170922T190000Z
DTEND:20170922T210000Z
X-MICROSOFT-CDO-ALLDAYEVENT:FALSE
SUMMARY:Mendocino Farmers Market
DESCRIPTION:Mendocino Farmers Market is held May-October.
X-ALT-DESC;FMTTYPE=text/html:Mendocino Farmers Market is held May-October.&nbsp\; &nbsp\;
LOCATION:Downtown Mendocino at Howard/Main St.
UID:e.2883.1338
SEQUENCE:3
DTSTAMP:20260423T215551Z
URL:http://mendocinocoast.smartcms.site/events/details/mendocino-farmers-market-09-22-2017-1338
END:VEVENT

END:VCALENDAR
