BEGIN:VCALENDAR
VERSION:2.0
PRODID:-//ChamberMaster//Event Calendar 2.0//EN
METHOD:PUBLISH
X-PUBLISHED-TTL:P3D
REFRESH-INTERVAL:P3D
CALSCALE:GREGORIAN
BEGIN:VEVENT
DTSTART:20200119T033000Z
DTEND:20200119T050000Z
X-MICROSOFT-CDO-ALLDAYEVENT:FALSE
SUMMARY:Mendocino Dance Project's SPECTATOR
DESCRIPTION:Spectator is an authentic and energetic dance show about the body and how it behaves under a variety of circumstances. It explores the many ways we witness each other and what changes occur in our physicality and emotional state with ongoing shifts in our environment.\n\n \n\nTickets can be purchased online at mendocinotheatre.org or by calling the box office at 707-937-4477. \n\nTo learn more about Mendocino Dance Project visit mendocinodanceproject.com.
X-ALT-DESC;FMTTYPE=text/html:<div style="text-align:center">\n<div style="text-align: left\;">Spectator is an authentic and energetic dance show about the body and how it behaves under a variety of circumstances. It explores the many ways we witness each other and what changes occur in our physicality and emotional state with ongoing shifts in our environment.</div>\n\n<div style="text-align: left\;">&nbsp\;</div>\n\n<div style="text-align: left\;">Tickets can be purchased online at mendocinotheatre.org or by calling the box office at 707-937-4477.&nbsp\;</div>\n\n<div style="text-align: left\;">To learn more about Mendocino Dance Project visit mendocinodanceproject.com.</div>\n</div>\n
LOCATION:Mendocino Theatre Company 45200 Little Lake Street Mendocino
UID:e.2883.12624
SEQUENCE:3
DTSTAMP:20260421T215246Z
URL:http://mendocinocoast.smartcms.site/events/details/mendocino-dance-project-s-spectator-01-18-2020-12624
END:VEVENT

END:VCALENDAR
