BEGIN:VCALENDAR
VERSION:2.0
PRODID:-//ChamberMaster//Event Calendar 2.0//EN
METHOD:PUBLISH
X-PUBLISHED-TTL:P3D
REFRESH-INTERVAL:P3D
CALSCALE:GREGORIAN
BEGIN:VEVENT
DTSTART:20180414T013000Z
DTEND:20180414T043000Z
X-MICROSOFT-CDO-ALLDAYEVENT:FALSE
SUMMARY:Mendocino Coast UkeFest 2018
DESCRIPTION:Mendocino Coast UkeFest Kick-Off - Jam and sing-along\, meet the\n\ninstructors.  All ages and levels of experience are encouraged. Bring your ukulele or just come in to sing along
X-ALT-DESC;FMTTYPE=text/html:<span style="color: rgb(0\, 0\, 0)\; font-family: Helvetica\; font-size: 14px\; text-size-adjust: auto\;">Mendocino Coast UkeFest Kick-Off - Jam and sing-along\, meet the</span><br style="color: rgb(0\, 0\, 0)\; font-family: Helvetica\; font-size: 14px\; text-size-adjust: auto\;" />\n<span style="color: rgb(0\, 0\, 0)\; font-family: Helvetica\; font-size: 14px\; text-size-adjust: auto\;">instructors.&nbsp\; All&nbsp\;</span><span style="color: rgb(0\, 0\, 0)\; font-family: Helvetica\; font-size: 14px\; text-size-adjust: auto\;">ages and levels of experience are encouraged. Bring your ukulele or just&nbsp\;</span><span style="color: rgb(0\, 0\, 0)\; font-family: Helvetica\; font-size: 14px\; text-size-adjust: auto\;">come in to sing along</span>
LOCATION:Redwood Coast Senior Center\, 490 N Harold St\, Fort Bragg.
UID:e.2883.5611
SEQUENCE:3
DTSTAMP:20260423T091354Z
URL:http://mendocinocoast.smartcms.site/events/details/mendocino-coast-ukefest-2018-5611
END:VEVENT

END:VCALENDAR
