BEGIN:VCALENDAR
VERSION:2.0
PRODID:-//ChamberMaster//Event Calendar 2.0//EN
METHOD:PUBLISH
X-PUBLISHED-TTL:P3D
REFRESH-INTERVAL:P3D
CALSCALE:GREGORIAN
BEGIN:VEVENT
DTSTART:20190620T210000Z
DTEND:20190621T010000Z
X-MICROSOFT-CDO-ALLDAYEVENT:FALSE
SUMMARY:Mendocino Coast Blood Drive
DESCRIPTION:Mendocino Coast Blood drive sponsored by the City of Fort Bragg. To schedule your lifesaving appointment: Please call Kim at (707) 890-1458 or go to www.bloodheroes.com and Click Locate Blood Drive and Enter Sponsor code: Town Hall Each donor will receive a San Francisco Giants T-shirt!
X-ALT-DESC;FMTTYPE=text/html:Mendocino Coast Blood drive sponsored by the City of Fort Bragg. To schedule your lifesaving appointment: Please call Kim at (707) 890-1458 or go to www.bloodheroes.com and Click Locate Blood Drive and Enter Sponsor code: Town Hall Each donor will receive a San Francisco Giants T-shirt!
LOCATION:Town Hall\, 363 N. Main Street\, Fort Bragg\, CA
UID:e.2883.11728
SEQUENCE:3
DTSTAMP:20260422T094206Z
URL:http://mendocinocoast.smartcms.site/events/details/mendocino-coast-blood-drive-11728
END:VEVENT

END:VCALENDAR
