BEGIN:VCALENDAR
VERSION:2.0
PRODID:-//ChamberMaster//Event Calendar 2.0//EN
METHOD:PUBLISH
X-PUBLISHED-TTL:P3D
REFRESH-INTERVAL:P3D
CALSCALE:GREGORIAN
BEGIN:VEVENT
DTSTART:20161116T230000Z
DTEND:20161117T010000Z
X-MICROSOFT-CDO-ALLDAYEVENT:FALSE
SUMMARY:Mendocino Ballet Presents The Nutcracker
DESCRIPTION:The Mendocino Ballet presents â€œThe Nutcrackerâ€ (Audiences of all ages will delight in â€œThe Nutcrackerâ€ asAmericaâ€™s favorite holiday classic comes to life!)Saturday\, December 10th at 7 pm and Sunday\, December 11th at 2 pm at CottonAuditorium in Fort BraggANDFriday\, December 16th at 7 pm\; Saturday\,December 17th at 2 pm and 7 pm andSunday\, December 18th at 2 pm at Mendocino College Center Theatre in UkiahTICKETS:Â  $20.00 â€“ AdultsÂ Â Â Â  $18.00 â€“ Seniors over 65Â Â Â  $10.00 â€“ Children under 18Â Tickets are available at the Mendocino Book Company and Mendocino Ballet in Ukiah\, Harvest MarketÂ  and Pippiâ€™s Longstockings in Fort Bragg\, Out of this World in Mendocino\, and Mazahar in Willits.Â  Tickets are available online at www.mendocinoballet.orgÂ  (There is a $1 surcharge for Credit Card sales)Â INFORMATION:Â  463-2290 â€“ The Mendocino Ballet\, 205 South State Street\, UkiahÂ (The Mendocino Ballet is a non-profit 501(c)3 corporation.Â  Tax ID#: 68-0037489)
X-ALT-DESC;FMTTYPE=text/html:<p>The Mendocino Ballet presents â€œThe Nutcrackerâ€ (Audiences of all ages will delight in â€œThe Nutcrackerâ€ as</p><p>Americaâ€™s favorite holiday classic comes to life!)</p><p>Saturday\, December 10<span>th</span> at 7 pm and Sunday\, December 11<span>th</span> at 2 pm at Cotton</p><p>Auditorium in Fort Bragg</p><p>AND</p><p>Friday\, December 16<span>th</span> at 7 pm\; Saturday\,</p><p>December 17<span>th</span> at 2 pm and 7 pm and</p><p>Sunday\, December 18<span>th</span> at 2 pm at Mendocino College Center Theatre in Ukiah</p><p>TICKETS:Â  $20.00 â€“ AdultsÂ Â Â Â  $18.00 â€“ Seniors over 65Â Â Â  $10.00 â€“ Children under 18</p><p>Â </p><p>Tickets are available at the Mendocino Book Company and Mendocino Ballet in Ukiah\, Harvest MarketÂ  and Pippiâ€™s Longstockings in Fort Bragg\, Out of this World in Mendocino\, and Mazahar in Willits.Â  Tickets are available online at www.mendocinoballet.orgÂ  (There is a $1 surcharge for Credit Card sales)</p><p>Â </p><p>INFORMATION:Â  463-2290 â€“ The Mendocino Ballet\, 205 South State Street\, Ukiah</p><p>Â </p><p>(The Mendocino Ballet is a non-profit 501(c)3 corporation.Â  Tax ID#: 68-0037489)</p>
LOCATION:Cotton Auditorium Fort Bragg
UID:e.2883.1068
SEQUENCE:3
DTSTAMP:20260424T141610Z
URL:http://mendocinocoast.smartcms.site/events/details/mendocino-ballet-presents-the-nutcracker-11-16-2016-1068
END:VEVENT

END:VCALENDAR
