BEGIN:VCALENDAR
VERSION:2.0
PRODID:-//ChamberMaster//Event Calendar 2.0//EN
METHOD:PUBLISH
X-PUBLISHED-TTL:P3D
REFRESH-INTERVAL:P3D
CALSCALE:GREGORIAN
BEGIN:VEVENT
DTSTART;VALUE=DATE:20201105
DTEND;VALUE=DATE:20201202
TRANSP:TRANSPARENT
X-MICROSOFT-CDO-ALLDAYEVENT:TRUE
SUMMARY:Mendocino Art Center's "The Strength of Women" Online Exhibition
DESCRIPTION:The Mendocino Art Center presents "The Strength of Women\," an online exhibition honoring the life and public service of recently deceased Supreme Court Justice Ruth Bader Ginsburg. The showing features 40 works celebrating women created by four female Pacific Coast artists   Julie Higgins\, Rogene Ma as\, Sandy Oppenheimer and Sue Ellen Parkinson   who are each inspired by the diversity\, resilience and strength of women throughout the world. The Mendocino Art Center remains open online for art classes\, monthly exhibitions\, events and the gallery store\, but will be closed to in-person experiences through the end of the calendar year.
X-ALT-DESC;FMTTYPE=text/html:The Mendocino Art Center presents &ldquo\;The Strength of Women\,&rdquo\; an online exhibition honoring the life and public service of recently deceased Supreme Court Justice Ruth Bader Ginsburg. The showing features 40 works celebrating women created by four female Pacific Coast artists &ndash\; Julie Higgins\, Rogene Ma&ntilde\;as\, Sandy Oppenheimer and Sue Ellen Parkinson &ndash\; who are each inspired by the diversity\, resilience and strength of women throughout the world. The Mendocino Art Center remains open online for art classes\, monthly exhibitions\, events and the gallery store\, but will be closed to in-person experiences through the end of the calendar year.
LOCATION:Mendocino Art Center Website
UID:e.2883.12998
SEQUENCE:3
DTSTAMP:20260421T045840Z
URL:http://mendocinocoast.smartcms.site/events/details/mendocino-art-center-s-the-strength-of-women-online-exhibition-12998
END:VEVENT

END:VCALENDAR
