BEGIN:VCALENDAR
VERSION:2.0
PRODID:-//ChamberMaster//Event Calendar 2.0//EN
METHOD:PUBLISH
X-PUBLISHED-TTL:P3D
REFRESH-INTERVAL:P3D
CALSCALE:GREGORIAN
BEGIN:VEVENT
DTSTART:20161031T180000Z
DTEND:20161101T000000Z
X-MICROSOFT-CDO-ALLDAYEVENT:FALSE
SUMMARY:Mendocino Art Center's November Gallery Exhiibitions
DESCRIPTION:During November\, the Mendocino Art Center (MAC) presents three new gallery exhibitions\, with artwork by Blagojce Stojanovski\, Â Betsy Lombard\, and a fiber arts collective.Â Macedonian master artist Blagojce Stojanovski will present a ten-year retrospective of his creative art in â€œArt and Humanity Know No Borders.â€ As Blagojce states\, â€œThere is a line that is called a â€˜border\,â€™ and there is a line that is called â€˜art.â€™ One divides. Another unites.â€ The exhibition will include select paintings and drawings from Blagojceâ€™s Grand Series â€œProgress and Humanity\,â€ an ongoing project for the last decade which will be featured for the first time. Additional paintings\, drawings\, woodcuts\, and sculpture will also be exhibited\, including some local scenes from the Mendocino area.Â Betsy Lombardâ€™s â€œJust Like I Pictured It\,â€ features her oil and watercolor paintings. Lombard's lyric vision of the natural world is charged with a unique strength and sensitivity. She has an innate sense of composition and often uses vertical forms and strong charcoal drawings as armatures for her abstract layouts of brilliant color.Â In celebration of the 40th anniversary of the Mendocino Art Centerâ€™s Textile Apprenticeship Program\, there will be concurrent exhibitions of â€œThen an Now\,â€ a fiber arts collective exhibit\, at MAC and Pacific Textile Arts in Fort Bragg. Approximately 20 former apprentices from the program will participate\, and works will include tapestries\, stitchery\, quilts\, woven and printed fabric\, knitting rugs and wall pieces.Â Don't miss the free Second Saturday Gallery Reception on November 12\, from 5:00 p.m. to 8:00 p.m.\, at the Mendocino Art Center. Meet the exhibiting artists and enjoy snacks and wine.Â Admission to the gallery is free. For more information please call 707-937-5818\, ext. 14 or visit MendocinoArtCenter.org. The Mendocino Art Center is located at 45200 Little Lake Street (at Kasten Street) in Mendocino. The gallery is open daily\, 11:00 a.m. to 4:00 p.m.
X-ALT-DESC;FMTTYPE=text/html:<p>During November\, the Mendocino Art Center (MAC) presents three new gallery exhibitions\, with artwork by Blagojce Stojanovski\, Â Betsy Lombard\, and a fiber arts collective.</p><p>Â </p><p>Macedonian master artist Blagojce Stojanovski will present a ten-year retrospective of his creative art in â€œArt and Humanity Know No Borders.â€ As Blagojce states\, â€œThere is a line that is called a â€˜border\,â€™ and there is a line that is called â€˜art.â€™ One divides. Another unites.â€ The exhibition will include select paintings and drawings from Blagojceâ€™s Grand Series â€œProgress and Humanity\,â€ an ongoing project for the last decade which will be featured for the first time. Additional paintings\, drawings\, woodcuts\, and sculpture will also be exhibited\, including some local scenes from the Mendocino area.</p><p>Â </p><p>Betsy Lombardâ€™s â€œJust Like I Pictured It\,â€ features her oil and watercolor paintings. Lombard's lyric vision of the natural world is charged with a unique strength and sensitivity. She has an innate sense of composition and often uses vertical forms and strong charcoal drawings as armatures for her abstract layouts of brilliant color.</p><p>Â </p><p>In celebration of the 40<sup>th</sup> anniversary of the Mendocino Art Centerâ€™s Textile Apprenticeship Program\, there will be concurrent exhibitions of â€œThen an Now\,â€ a fiber arts collective exhibit\, at MAC and Pacific Textile Arts in Fort Bragg. Approximately 20 former apprentices from the program will participate\, and works will include tapestries\, stitchery\, quilts\, woven and printed fabric\, knitting rugs and wall pieces.</p><p>Â </p><p>Don't miss the free Second Saturday Gallery Reception on November 12\, from 5:00 p.m. to 8:00 p.m.\, at the Mendocino Art Center. Meet the exhibiting artists and enjoy snacks and wine.</p><p>Â </p><p>Admission to the gallery is free. For more information please call 707-937-5818\, ext. 14 or visit MendocinoArtCenter.org. The Mendocino Art Center is located at 45200 Little Lake Street (at Kasten Street) in Mendocino. The gallery is open daily\, 11:00 a.m. to 4:00 p.m.</p>
LOCATION:Mendocino Art Center
UID:e.2883.1059
SEQUENCE:3
DTSTAMP:20260424T160636Z
URL:http://mendocinocoast.smartcms.site/events/details/mendocino-art-center-s-november-gallery-exhiibitions-10-31-2016-1059
END:VEVENT

END:VCALENDAR
