BEGIN:VCALENDAR
VERSION:2.0
PRODID:-//ChamberMaster//Event Calendar 2.0//EN
METHOD:PUBLISH
X-PUBLISHED-TTL:P3D
REFRESH-INTERVAL:P3D
CALSCALE:GREGORIAN
BEGIN:VEVENT
DTSTART:20171102T180000Z
DTEND:20171102T230000Z
X-MICROSOFT-CDO-ALLDAYEVENT:FALSE
SUMMARY:Mendocino Art Center's November Gallery Exhibitions
DESCRIPTION:The Mendocino Art Center exhibits Gail Factor's Retrospective Exhibition which has previously shown at the Las Cruces Museum of Art\, New Mexico\; Lisa Thorpe's "Signs and Symbols\," featuring paintings\, collage\, encaustics\, and more\; and Susan Else's cloth sculptural works. Free Second Saturday Gallery Reception: November 11\, 5pm-8pm.
X-ALT-DESC;FMTTYPE=text/html:<span style="font-family:helvetica">The Mendocino Art Center exhibits Gail Factor&rsquo\;s Retrospective Exhibition which has previously shown at the</span><span style="font-family:helvetica"> Las Cruces Museum of Art\, New Mexico\; Lisa Thorpe&rsquo\;s &ldquo\;Signs and Symbols\,&rdquo\; featuring paintings\, collage\, encaustics\, and more\; and Susan Else&rsquo\;s cloth sculptural works. </span><span style="font-family:helvetica">Free Second Saturday Gallery Reception: November 11\, 5pm-8pm.</span>
LOCATION:Mendocino Art Center 45200 Little Lake Street Mendocino\, CA
UID:e.2883.5271
SEQUENCE:3
DTSTAMP:20260423T173340Z
URL:http://mendocinocoast.smartcms.site/events/details/mendocino-art-center-s-november-gallery-exhibitions-11-02-2017-5271
END:VEVENT

END:VCALENDAR
