BEGIN:VCALENDAR
VERSION:2.0
PRODID:-//ChamberMaster//Event Calendar 2.0//EN
METHOD:PUBLISH
X-PUBLISHED-TTL:P3D
REFRESH-INTERVAL:P3D
CALSCALE:GREGORIAN
BEGIN:VEVENT
DTSTART:20181101T180000Z
DTEND:20181120T000000Z
X-MICROSOFT-CDO-ALLDAYEVENT:FALSE
SUMMARY:Mendocino Art Center’s November Gallery Exhibitions
DESCRIPTION:The Mendocino Art Center presents three new gallery exhibitions in November\, including a Members' Juried Photography Exhibit\, juried by Dolores M. Clark\; Mary Vaughan's abstract\, yet narrative showing of paintings\, "Earth Tones and Nature Messages"\; and Virginia Ray's exhibit\, "A Curious Life\," featuring her whimsical and imaginative artwork. A Free Second Saturday Gallery Reception will be held Saturday\, November 10\, 5pm to 8pm. Mendocino Art Center's Artists in Residence will also open their studios to the public during the reception. Watch the artists work and purchase newly created art direct from the artists.
X-ALT-DESC;FMTTYPE=text/html:The Mendocino Art Center presents three new gallery exhibitions in November\, including a Members&rsquo\; Juried Photography Exhibit\, juried by Dolores M. Clark\; Mary Vaughan&rsquo\;s abstract\, yet narrative showing of paintings\, &ldquo\;Earth Tones and Nature Messages&rdquo\;\; and Virginia Ray&rsquo\;s exhibit\, &ldquo\;A Curious Life\,&rdquo\; featuring her whimsical and imaginative artwork. A Free Second Saturday Gallery Reception will be held Saturday\, November 10\, 5pm to 8pm. Mendocino Art Center&rsquo\;s Artists in Residence will also open their studios to the public during the reception. Watch the artists work and purchase newly created art direct from the artists.
LOCATION:Mendocino Art Center 45200 Little Lake Street at Kasten Street Mendocino
UID:e.2883.10341
SEQUENCE:3
DTSTAMP:20260422T210931Z
URL:http://mendocinocoast.smartcms.site/events/details/mendocino-art-center-s-november-gallery-exhibitions-11-01-2018-10341
END:VEVENT

END:VCALENDAR
