BEGIN:VCALENDAR
VERSION:2.0
PRODID:-//ChamberMaster//Event Calendar 2.0//EN
METHOD:PUBLISH
X-PUBLISHED-TTL:P3D
REFRESH-INTERVAL:P3D
CALSCALE:GREGORIAN
BEGIN:VEVENT
DTSTART:20191031T180000Z
DTEND:20191201T000000Z
X-MICROSOFT-CDO-ALLDAYEVENT:FALSE
SUMMARY:Mendocino Art Center's November Gallery Exhibitions
DESCRIPTION:The Mendocino Art Center presents The Rhino Project's "How is Your Rhinoceros Inspiring You?\," featuring Anne Beck and Michelle Wilson's embroidery and watermark and other related artwork\; and photography by Gabriella Cobb\, "The Second Oldest Profession\, Nomadic Shepherds from Around the World"\; River Wilder\, "Salt\, Silver and Gold"\; and Jonathan Pazer\, "Seven Dimensions of the Unseen\, and Other Works." A Free Second Saturday Gallery Reception will be held Saturday\, November 9\, 5pm to 8pm. Enjoy snacks and wine\, the live classical guitar sounds of Sergei Bassehes\, and meet the exhibiting artists. Mendocino Art Center's Artists in Residence will also open their studios to the public during the reception. Watch the artists work and purchase newly created art direct from the artists.
X-ALT-DESC;FMTTYPE=text/html:The Mendocino Art Center presents The Rhino Project&rsquo\;s &ldquo\;How is Your Rhinoceros Inspiring You?\,&rdquo\; featuring Anne Beck and Michelle Wilson&rsquo\;s embroidery and watermark and other related artwork\; and photography by Gabriella Cobb\, &ldquo\;The Second Oldest Profession\, Nomadic Shepherds from Around the World&rdquo\;\; River Wilder\, &ldquo\;Salt\, Silver and Gold&rdquo\;\; and Jonathan Pazer\, &ldquo\;Seven Dimensions of the Unseen\, and Other Works.&rdquo\; A Free Second Saturday Gallery Reception will be held Saturday\, November 9\, 5pm to 8pm. Enjoy snacks and wine\, the live classical guitar sounds of Sergei Bassehes\, and meet the exhibiting artists. Mendocino Art Center&rsquo\;s Artists in Residence will also open their studios to the public during the reception. Watch the artists work and purchase newly created art direct from the artists.
LOCATION:Mendocino Art Center 45200 Little Lake Street\, Mendocino
UID:e.2883.12507
SEQUENCE:3
DTSTAMP:20260422T011824Z
URL:http://mendocinocoast.smartcms.site/events/details/mendocino-art-center-s-november-gallery-exhibitions-10-31-2019-12507
END:VEVENT

END:VCALENDAR
