BEGIN:VCALENDAR
VERSION:2.0
PRODID:-//ChamberMaster//Event Calendar 2.0//EN
METHOD:PUBLISH
X-PUBLISHED-TTL:P3D
REFRESH-INTERVAL:P3D
CALSCALE:GREGORIAN
BEGIN:VEVENT
DTSTART;VALUE=DATE:20200908
DTEND;VALUE=DATE:20201006
TRANSP:TRANSPARENT
X-MICROSOFT-CDO-ALLDAYEVENT:TRUE
SUMMARY:Mendocino Art Center's Mendocino Open Paint Out Retrospective Online Exhibit
DESCRIPTION:The Mendocino Art Center's Mendocino Open Paint Out (MOPO) Retrospective Online Exhibition\, September 8 through October 5\, spotlights the top award-winning paintings   Best in Show\, Overall Consistency and Featured Artwork   from the first seven years of the annual plein air festival. In all\, eleven artists' MOPO paintings are featured with many also exhibiting new paintings. Due to the COVID-19 pandemic\, the Mendocino Art Center has reluctantly decided not to host the in-person Mendocino Open Paint Out event in 2020. A free live reception will be held on the Mendocino Art Center's Facebook page (https://www.facebook.com/mendocinoartcenter\, Saturday\, September 19\, at 5:00 p.m. More details to come.
X-ALT-DESC;FMTTYPE=text/html:The Mendocino Art Center&#39\;s Mendocino Open Paint Out (MOPO) Retrospective Online Exhibition\, September 8 through October 5\, spotlights the top award-winning paintings &ndash\; Best in Show\, Overall Consistency and Featured Artwork &ndash\; from the first seven years of the annual plein air festival. In all\, eleven artists&rsquo\; MOPO paintings are featured with many also exhibiting new paintings. Due to the COVID-19 pandemic\, the Mendocino Art Center has reluctantly decided not to host the in-person Mendocino Open Paint Out event in 2020. A free live reception will be held on the Mendocino Art Center&rsquo\;s Facebook page (https://www.facebook.com/mendocinoartcenter\, Saturday\, September 19\, at 5:00 p.m. More details to come.
LOCATION:Online at http://www.mendocinoartcenter.org/mopo.html
UID:e.2883.12955
SEQUENCE:3
DTSTAMP:20260421T063329Z
URL:http://mendocinocoast.smartcms.site/events/details/mendocino-art-center-s-mendocino-open-paint-out-retrospective-online-exhibit-12955
END:VEVENT

END:VCALENDAR
