BEGIN:VCALENDAR
VERSION:2.0
PRODID:-//ChamberMaster//Event Calendar 2.0//EN
METHOD:PUBLISH
X-PUBLISHED-TTL:P3D
REFRESH-INTERVAL:P3D
CALSCALE:GREGORIAN
BEGIN:VEVENT
DTSTART:20180105T190000Z
DTEND:20180205T000000Z
X-MICROSOFT-CDO-ALLDAYEVENT:FALSE
SUMMARY:Mendocino Art Center's Members' Juried Exhibit
DESCRIPTION:The Mendocino Art Center gallery presents the annual all-media Members' Juried Exhibit featuring the finest new works created by the Art Center's contribution members\, including paintings\, ceramics\, sculpture\, collage\, wearable art\, photography\, and more. The showing is juried by Craig Gilliland. Free Second Saturday Gallery Reception and Artists in Residence Open Art Studios: January 13\, 5pm-8pm.
X-ALT-DESC;FMTTYPE=text/html:The Mendocino Art Center gallery presents the annual all-media Members&rsquo\; Juried Exhibit featuring the finest new works created by the Art Center&rsquo\;s contribution members\, including paintings\, ceramics\, sculpture\, collage\, wearable art\, photography\, and more. The showing is juried by Craig Gilliland. Free Second Saturday Gallery Reception and Artists in Residence Open Art Studios: January 13\, 5pm-8pm.
LOCATION:Mendocino Art Center 45200 Little Lake Street\, Mendocino
UID:e.2883.5500
SEQUENCE:3
DTSTAMP:20260423T123447Z
URL:http://mendocinocoast.smartcms.site/events/details/mendocino-art-center-s-members-juried-exhibit-5500
END:VEVENT

END:VCALENDAR
