BEGIN:VCALENDAR
VERSION:2.0
PRODID:-//ChamberMaster//Event Calendar 2.0//EN
METHOD:PUBLISH
X-PUBLISHED-TTL:P3D
REFRESH-INTERVAL:P3D
CALSCALE:GREGORIAN
BEGIN:VEVENT
DTSTART:20161220T200000Z
DTEND:20161221T020000Z
X-MICROSOFT-CDO-ALLDAYEVENT:FALSE
SUMMARY:Mendocino Art Center's Members' Juried Exhibit
DESCRIPTION:Every January the Membersâ€™ Juried Exhibit features the finest works created by the Mendocino Art Centerâ€™s contributing members. A highly competitive juried selection process leads to an exceptionally creative\, high quality\, and much anticipated gallery showing with a wide spectrum of artwork\, including paintings\, ceramics\, sculpture\, fiber arts\, jewelry\, photography and more. This January 2016 exhibit featured 82 pieces by 66 artists. Marvin Schenck will jury the January 2017 Membersâ€™ Juried Exhibit.Â Second Saturday Gallery Reception & Open Studios:January 14\, Open Studios: 4pm-8pm\, Reception: 5pm-8pmFree admissionÂ Enjoy snacks and wine\, and meet the exhibiting artists. Join us prior to the gallery reception as we open up the art studios. Meet the 2016/17 Artists in Residence\, watch them work and view new works created in the Mendocino Art Center studios. Refreshments will be available.
X-ALT-DESC;FMTTYPE=text/html:<p>Every January the Membersâ€™ Juried Exhibit features the finest works created by the Mendocino Art Centerâ€™s contributing members. A highly competitive juried selection process leads to an exceptionally creative\, high quality\, and much anticipated gallery showing with a wide spectrum of artwork\, including paintings\, ceramics\, sculpture\, fiber arts\, jewelry\, photography and more. This January 2016 exhibit featured 82 pieces by 66 artists. Marvin Schenck will jury the January 2017 Membersâ€™ Juried Exhibit.</p><p>Â </p><p><strong>Second Saturday Gallery Reception &amp\; Open Studios:</strong></p><p><strong>January 14\, Open Studios: 4pm-8pm\, Reception: 5pm-8pm</strong></p><p>Free admission</p><p>Â </p><p>Enjoy snacks and wine\, and meet the exhibiting artists. Join us prior to the gallery reception as we open up the art studios. Meet the 2016/17 Artists in Residence\, watch them work and view new works created in the Mendocino Art Center studios. Refreshments will be available.</p>
LOCATION:Mendocino Art Center
UID:e.2883.1078
SEQUENCE:3
DTSTAMP:20260424T125426Z
URL:http://mendocinocoast.smartcms.site/events/details/mendocino-art-center-s-members-juried-exhibit-12-20-2016-1078
END:VEVENT

END:VCALENDAR
