BEGIN:VCALENDAR
VERSION:2.0
PRODID:-//ChamberMaster//Event Calendar 2.0//EN
METHOD:PUBLISH
X-PUBLISHED-TTL:P3D
REFRESH-INTERVAL:P3D
CALSCALE:GREGORIAN
BEGIN:VEVENT
DTSTART:20190502T180000Z
DTEND:20190527T230000Z
X-MICROSOFT-CDO-ALLDAYEVENT:FALSE
SUMMARY:Mendocino Art Center's May Gallery Exhibitions
DESCRIPTION:Mendocino Art Center presents the 11th Biennial Mendocino Figure Drawing Exhibition\, with works by 19 artists\, paintings by Agnes Woolsey and Judith Hale\, and paintings\, photography and ceramics works by Mendocino High School students. Free Second Saturday Gallery Reception\, May 11\, 5pm to 8pm. Enjoy snacks and wine\, and meet the exhibiting artists.
X-ALT-DESC;FMTTYPE=text/html:Mendocino Art Center presents the 11th Biennial Mendocino Figure Drawing Exhibition\, with works by 19 artists\, paintings by Agnes Woolsey and Judith Hale\, and paintings\, photography and ceramics works by Mendocino High School students. Free Second Saturday Gallery Reception\, May 11\, 5pm to 8pm. Enjoy snacks and wine\, and meet the exhibiting artists.
LOCATION:Mendocino Art Center 45200 Little Lake Street\, Mendocino
UID:e.2883.11443
SEQUENCE:3
DTSTAMP:20260422T111540Z
URL:http://mendocinocoast.smartcms.site/events/details/mendocino-art-center-s-may-gallery-exhibitions-11443
END:VEVENT

END:VCALENDAR
