BEGIN:VCALENDAR
VERSION:2.0
PRODID:-//ChamberMaster//Event Calendar 2.0//EN
METHOD:PUBLISH
X-PUBLISHED-TTL:P3D
REFRESH-INTERVAL:P3D
CALSCALE:GREGORIAN
BEGIN:VEVENT
DTSTART:20180601T180000Z
DTEND:20180702T000000Z
X-MICROSOFT-CDO-ALLDAYEVENT:FALSE
SUMMARY:Mendocino Art Center's June Gallery Exhibitions
DESCRIPTION:The Mendocino Art Center presents the finest works created by its contributing members in the annual Members' Juried Garden-Themed Exhibit. A highly competitive juried selection process leads to an exceptionally creative\, high quality\, and much anticipated gallery showing with a wide spectrum of artwork\, including paintings\, ceramics\, sculpture\, jewelry\, photography\, fiber art and more. This year's showing is juried by Mendocino Coast artists Mary T. Anderson\, Erin Dertner and Susan Louise Moyer\, and is exhibited in conjunction with the 26th Annual Mendocino Coast Garden Tour\, Saturday\, June 30. Also on exhibit is a Judith Hale Retrospective and "The Other Way Round\," featuring artwork by Jonathan Palmer and Nicholas Collins. Free Second Saturday Gallery Reception: June 9\, 5pm-8pm.
X-ALT-DESC;FMTTYPE=text/html:The Mendocino Art Center presents the finest works created by its contributing members in the annual Members&rsquo\; Juried Garden-Themed Exhibit. A highly competitive juried selection process leads to an exceptionally creative\, high quality\, and much anticipated gallery showing with a wide spectrum of artwork\, including paintings\, ceramics\, sculpture\, jewelry\, photography\, fiber art and more. This year&rsquo\;s showing is juried by Mendocino Coast artists Mary T. Anderson\, Erin Dertner and Susan Louise Moyer\, and is exhibited in conjunction with the 26th Annual Mendocino Coast Garden Tour\, Saturday\, June 30. Also on exhibit is a Judith Hale Retrospective and &quot\;The Other Way Round\,&quot\; featuring artwork by Jonathan Palmer and Nicholas Collins. Free Second Saturday Gallery Reception: June 9\, 5pm-8pm.
LOCATION:Mendocino Art Center 45200 Little Lake Street at Kasten Street\, Mendocino
UID:e.2883.8777
SEQUENCE:3
DTSTAMP:20260423T041004Z
URL:http://mendocinocoast.smartcms.site/events/details/mendocino-art-center-s-june-gallery-exhibitions-8777
END:VEVENT

END:VCALENDAR
