BEGIN:VCALENDAR
VERSION:2.0
PRODID:-//ChamberMaster//Event Calendar 2.0//EN
METHOD:PUBLISH
X-PUBLISHED-TTL:P3D
REFRESH-INTERVAL:P3D
CALSCALE:GREGORIAN
BEGIN:VEVENT
DTSTART:20190531T180000Z
DTEND:20190629T230000Z
X-MICROSOFT-CDO-ALLDAYEVENT:FALSE
SUMMARY:Mendocino Art Center's June Gallery Exhibitions
DESCRIPTION:Mendocino Art Center features the finest works created by its contributing members in the annual Members' Juried Garden-Themed Exhibit. Also showing are wooden and bronze sculpture and earth paintings and prints by Robert Spies in his exhibit "Then & Now " and Ellen Howard's "Out on the Edge" exhibition of her landscape and marine paintings. Free Second Saturday Gallery Reception\, June 8\, 5pm to 8pm. Enjoy snacks and wine\, and meet the exhibiting artists.
X-ALT-DESC;FMTTYPE=text/html:Mendocino Art Center features the finest works created by its contributing members in the annual Members&rsquo\; Juried Garden-Themed Exhibit. Also showing are wooden and bronze sculpture and earth paintings and prints by Robert Spies in his exhibit &ldquo\;Then &amp\; Now&hellip\;&rdquo\; and Ellen Howard&rsquo\;s &ldquo\;Out on the Edge&rdquo\; exhibition of her landscape and marine paintings. Free Second Saturday Gallery Reception\, June 8\, 5pm to 8pm. Enjoy snacks and wine\, and meet the exhibiting artists.
LOCATION:Mendocino Art Center 45200 Little Lake Street Mendocino
UID:e.2883.11456
SEQUENCE:3
DTSTAMP:20260422T094502Z
URL:http://mendocinocoast.smartcms.site/events/details/mendocino-art-center-s-june-gallery-exhibitions-05-31-2019-11456
END:VEVENT

END:VCALENDAR
