BEGIN:VCALENDAR
VERSION:2.0
PRODID:-//ChamberMaster//Event Calendar 2.0//EN
METHOD:PUBLISH
X-PUBLISHED-TTL:P3D
REFRESH-INTERVAL:P3D
CALSCALE:GREGORIAN
BEGIN:VEVENT
DTSTART:20160629T170000Z
DTEND:20160630T000000Z
X-MICROSOFT-CDO-ALLDAYEVENT:FALSE
SUMMARY:Mendocino Art Center's July Gallery Exhibitions
DESCRIPTION:Mendocino Art Centerâ€™s July gallery exhibits feature â€œMaster Class\,â€ the mid-century art and influence of Jan Stussy and Maxine Kim Stussy\, as well as works by eight of their â€œmaster classâ€ students\; an Encaustic Group Show\, with artwork by eight talented artists\; and plein air paintings by Susan Elwart Hall. Free reception\, July 9\, 5pm-8pm.
X-ALT-DESC;FMTTYPE=text/html:<p>Mendocino Art Centerâ€™s July gallery exhibits feature â€œMaster Class\,â€ the mid-century art and influence of Jan Stussy and Maxine Kim Stussy\, as well as works by eight of their â€œmaster classâ€ students\; an Encaustic Group Show\, with artwork by eight talented artists\; and plein air paintings by Susan Elwart Hall. Free reception\, July 9\, 5pm-8pm.</p>
LOCATION:Mendocino Art Center
UID:e.2883.966
SEQUENCE:3
DTSTAMP:20260424T225509Z
URL:http://mendocinocoast.smartcms.site/events/details/mendocino-art-center-s-july-gallery-exhibitions-06-29-2016-966
END:VEVENT

END:VCALENDAR
