BEGIN:VCALENDAR
VERSION:2.0
PRODID:-//ChamberMaster//Event Calendar 2.0//EN
METHOD:PUBLISH
X-PUBLISHED-TTL:P3D
REFRESH-INTERVAL:P3D
CALSCALE:GREGORIAN
BEGIN:VEVENT
DTSTART:20190926T180000Z
DTEND:20191027T230000Z
X-MICROSOFT-CDO-ALLDAYEVENT:FALSE
SUMMARY:Mendocino Art Center's Gallery Exhibitions
DESCRIPTION:Mendocino Art Center presents a Partners Gallery satellite exhibit\, featuring the works of 13 artists\, as they celebrate their 20th anniversary. Also on exhibit is Ryan Grossman's painting show\, "Liminal Tide\," and Derek A. DiOrio's artwork. Free Second Saturday Gallery Reception\, October 12\, 5pm to 8pm. Enjoy snacks and wine\, the live classical guitar sounds of Sergei Bassehes\, and meet the exhibiting artists.
X-ALT-DESC;FMTTYPE=text/html:Mendocino Art Center presents a Partners Gallery satellite exhibit\, featuring the works of 13 artists\, as they celebrate their 20th anniversary. Also on exhibit is Ryan Grossman&rsquo\;s painting show\, &ldquo\;Liminal Tide\,&rdquo\; and Derek A. DiOrio&rsquo\;s artwork. Free Second Saturday Gallery Reception\, October 12\, 5pm to 8pm. Enjoy snacks and wine\, the live classical guitar sounds of Sergei Bassehes\, and meet the exhibiting artists.
LOCATION:Mendocino Art Center 45200 Little Lake Street Mendocino
UID:e.2883.12002
SEQUENCE:3
DTSTAMP:20260422T025627Z
URL:http://mendocinocoast.smartcms.site/events/details/mendocino-art-center-s-gallery-exhibitions-09-26-2019-12002
END:VEVENT

END:VCALENDAR
