BEGIN:VCALENDAR
VERSION:2.0
PRODID:-//ChamberMaster//Event Calendar 2.0//EN
METHOD:PUBLISH
X-PUBLISHED-TTL:P3D
REFRESH-INTERVAL:P3D
CALSCALE:GREGORIAN
BEGIN:VEVENT
DTSTART:20170602T170000Z
DTEND:20170626T000000Z
X-MICROSOFT-CDO-ALLDAYEVENT:FALSE
SUMMARY:Mendocino Art Center's Flora & Fauna Exhibition
DESCRIPTION:The Mendocino Art Center features the finest works created by its contributing members in the annual Members' Juried Exhibit\, "Flora and Fauna\," June 2-25.\n\n \n\nA highly competitive juried selection process leads to an exceptionally creative\, high quality\, and much anticipated gallery showing with a wide spectrum of artwork\, including paintings\, ceramics\, sculpture\, jewelry\, photography\, fiber art and more. This year's showing\, which is held in all three of the Mendocino Art Center's exhibition galleries\, is juried by Mendocino Coast artist Miriam Davis and is exhibited in conjunction with the 25thAnniversary Mendocino Coast Garden Tour\, scheduled for Saturday\, June 24. \n\n\n\nMendocino Art Center hosts a free Second Saturday Artists Reception each month. Enjoy snacks and wine\, and meet the exhibiting artists.
X-ALT-DESC;FMTTYPE=text/html:<p style="margin: 0px\; border: 0px none\; padding: 0px\; font-family: Verdana\, Arial\; font-size: 11px\;">The Mendocino Art Center features the finest works created by its contributing members in the annual Members&rsquo\; Juried Exhibit\, &ldquo\;Flora and Fauna\,&rdquo\; June 2-25.</p>\n\n<p style="margin: 0px\; border: 0px none\; padding: 0px\; font-family: Verdana\, Arial\; font-size: 11px\;">&nbsp\;</p>\n\n<p style="margin: 0px\; border: 0px none\; padding: 0px\; font-family: Verdana\, Arial\; font-size: 11px\;">A highly competitive juried selection process leads to an exceptionally creative\, high quality\, and much anticipated gallery showing with a wide spectrum of artwork\, including paintings\, ceramics\, sculpture\, jewelry\, photography\, fiber art and more. This year&rsquo\;s showing\, which is held in all three of the Mendocino Art Center&rsquo\;s exhibition galleries\, is juried by Mendocino Coast artist Miriam Davis and is exhibited in conjunction with the 25<sup style="margin: 0px\;">th</sup>Anniversary Mendocino Coast Garden Tour\, scheduled for Saturday\, June 24.&nbsp\;<br />\n<br />\n<span style="font-family: Verdana\, Arial\; font-size: 11px\;">Mendocino Art Center hosts a free Second Saturday Artists Reception each month. Enjoy snacks and wine\, and meet the exhibiting artists</span><strong style="margin: 0px\; font-family: Verdana\, Arial\; font-size: 11px\;">.</strong></p>\n
LOCATION:Mendocino Art Center
UID:e.2883.1213
SEQUENCE:3
DTSTAMP:20260424T024619Z
URL:http://mendocinocoast.smartcms.site/events/details/mendocino-art-center-s-flora-fauna-exhibition-1213
END:VEVENT

END:VCALENDAR
