BEGIN:VCALENDAR
VERSION:2.0
PRODID:-//ChamberMaster//Event Calendar 2.0//EN
METHOD:PUBLISH
X-PUBLISHED-TTL:P3D
REFRESH-INTERVAL:P3D
CALSCALE:GREGORIAN
BEGIN:VEVENT
DTSTART;VALUE=DATE:20170503
DTEND;VALUE=DATE:20170504
TRANSP:TRANSPARENT
X-MICROSOFT-CDO-ALLDAYEVENT:TRUE
SUMMARY:Mendocino Art Center's Flora & Fauna Exhibition
DESCRIPTION:The Mendocino Art Center features the finest works created by its contributing members in the annual Membersâ€™ Juried Exhibit\, â€œFlora and Fauna\,â€ June 2-25.Â A highly competitive juried selection process leads to an exceptionally creative\, high quality\, and much anticipated gallery showing with a wide spectrum of artwork\, including paintings\, ceramics\, sculpture\, jewelry\, photography\, fiber art and more. This yearâ€™s showing\, which is held in all three of the Mendocino Art Centerâ€™s exhibition galleries\, is juried by Mendocino Coast artist Miriam Davis and is exhibited in conjunction with the 25th Anniversary Mendocino Coast Garden Tour\, scheduled for Saturday\, June 24.Â Second Saturday Gallery Reception:June 10\, 5pm-8pmFree admissionÂ Mendocino Art Center hosts a free Second Saturday Artists Reception each month. Enjoy snacks and wine\, and meet the exhibiting artists.Â more information
X-ALT-DESC;FMTTYPE=text/html:<p>The Mendocino Art Center features the finest works created by its contributing members in the annual Membersâ€™ Juried Exhibit\, â€œFlora and Fauna\,â€ June 2-25.</p><p>Â </p><p>A highly competitive juried selection process leads to an exceptionally creative\, high quality\, and much anticipated gallery showing with a wide spectrum of artwork\, including paintings\, ceramics\, sculpture\, jewelry\, photography\, fiber art and more. This yearâ€™s showing\, which is held in all three of the Mendocino Art Centerâ€™s exhibition galleries\, is juried by Mendocino Coast artist Miriam Davis and is exhibited in conjunction with the 25<sup>th</sup> Anniversary Mendocino Coast Garden Tour\, scheduled for Saturday\, June 24.</p><p>Â </p><p><strong>Second Saturday Gallery Reception:</strong></p><p><strong>June 10\, 5pm-8pm</strong></p><p>Free admission</p><p>Â </p><p>Mendocino Art Center hosts a free Second Saturday Artists Reception each month. Enjoy snacks and wine\, and meet the exhibiting artists<strong>.</strong></p><p>Â </p><p><strong><a href="http://www.mendocinoartcenter.org/MyLasso/MainGallery-June-2017.lasso">more information</a></strong></p>
LOCATION:Mendocino Art Center
UID:e.2883.1200
SEQUENCE:3
DTSTAMP:20260424T042753Z
URL:http://mendocinocoast.smartcms.site/events/details/mendocino-art-center-s-flora-fauna-exhibition-05-03-2017-1200
END:VEVENT

END:VCALENDAR
