BEGIN:VCALENDAR
VERSION:2.0
PRODID:-//ChamberMaster//Event Calendar 2.0//EN
METHOD:PUBLISH
X-PUBLISHED-TTL:P3D
REFRESH-INTERVAL:P3D
CALSCALE:GREGORIAN
BEGIN:VEVENT
DTSTART;VALUE=DATE:20200407
DTEND;VALUE=DATE:20200511
TRANSP:TRANSPARENT
X-MICROSOFT-CDO-ALLDAYEVENT:TRUE
SUMMARY:Mendocino Art Center’s Artists in Residence ONLINE Exhibition
DESCRIPTION:The Mendocino Art Center's Artists in Residence (AIR) are hosting an online exhibition of their works\, in lieu of an actual showing in the Art Center's galleries\, due to the coronavirus (COVID-19) pandemic. The participating artists are exhibiting pieces primarily created during their residencies\, and the works are for sale. Mendocino Art Center's annual Artists in Residence Exhibit features artwork this year by Myung Ahn\, Karina Mago\, Carey Nathanson\, Lauren Stanford and Austyn Taylor. Additional AIRs may submit artwork during the dates of the online exhibition. The AIR program brings both emerging and established artists from across the country to this unique northern California region\, providing creative space for artists to expand and explore their craft\, collaborate and create new bodies of work.
X-ALT-DESC;FMTTYPE=text/html:The Mendocino Art Center&rsquo\;s Artists in Residence (AIR) are hosting an online exhibition of their works\, in lieu of an actual showing in the Art Center&rsquo\;s galleries\, due to the coronavirus (COVID-19) pandemic. The participating artists are exhibiting pieces primarily created during their residencies\, and the works are for sale. Mendocino Art Center&rsquo\;s annual Artists in Residence Exhibit features artwork this year by Myung Ahn\, Karina Mago\, Carey Nathanson\, Lauren Stanford and Austyn Taylor. Additional AIRs may submit artwork during the dates of the online exhibition. The AIR program brings both emerging and established artists from across the country to this unique northern California region\, providing creative space for artists to expand and explore their craft\, collaborate and create new bodies of work.
LOCATION:Mendocino Art Center 45200 Little Lake Street\, Mendocino
UID:e.2883.12903
SEQUENCE:3
DTSTAMP:20260421T154534Z
URL:http://mendocinocoast.smartcms.site/events/details/mendocino-art-center-s-artists-in-residence-online-exhibition-12903
END:VEVENT

END:VCALENDAR
