BEGIN:VCALENDAR
VERSION:2.0
PRODID:-//ChamberMaster//Event Calendar 2.0//EN
METHOD:PUBLISH
X-PUBLISHED-TTL:P3D
REFRESH-INTERVAL:P3D
CALSCALE:GREGORIAN
BEGIN:VEVENT
DTSTART:20190705T180000Z
DTEND:20190729T230000Z
X-MICROSOFT-CDO-ALLDAYEVENT:FALSE
SUMMARY:Mendocino Art Center's 60th Anniversary Exhibition\, "Celebrating Our Heritage"
DESCRIPTION:As part of the commemoration of its 60th anniversary\, the Mendocino Art Center presents a retrospective exhibition featuring artwork from a roster of talented artists who were instrumental in the founding and early years of the Art Center.\n\nThe exhibit will include artwork by Mendocino Heritage Artists Bill Zacha\, Dorr Bothwell\, Fran Moyer\, Hilda Pertha\, Charles Marchant Stevenson and Toshi Yoshida\, as well as Legacy Artists Dorsey Alexander\, Howard Wheatley Allen\, Jim Bertram\, Doug Desmond\, Dean MacKenzie\, Sasha Makovkin\, J.D. Mayhew\, Leone McNeil Zimmer\, Al Need\, Emmy Lou Packard\, Olaf Palm\, Helen Reynolds\, Miriam Rice\, Ray Rice\, E. John Robinson\, Herb Steiniger\, and more.\n\nAlso on exhibit\, Fort Bragg resident Deth P. Sun shows his paintings.\n\nFree Second Saturday Gallery Reception\, July 13\, 5pm to 8pm. Enjoy snacks and wine\, and meet the exhibiting artists.
X-ALT-DESC;FMTTYPE=text/html:As part of the commemoration of its 60th anniversary\, the Mendocino Art Center presents a retrospective exhibition featuring artwork from a roster of talented artists who were instrumental in the founding and early years of the Art Center.\n\nThe exhibit will include artwork by Mendocino Heritage Artists Bill Zacha\, Dorr Bothwell\, Fran Moyer\, Hilda Pertha\, Charles Marchant Stevenson and Toshi Yoshida\, as well as Legacy Artists Dorsey Alexander\, Howard Wheatley Allen\, Jim Bertram\, Doug Desmond\, Dean MacKenzie\, Sasha Makovkin\, J.D. Mayhew\, Leone McNeil Zimmer\, Al Need\, Emmy Lou Packard\, Olaf Palm\, Helen Reynolds\, Miriam Rice\, Ray Rice\, E. John Robinson\, Herb Steiniger\, and more.\n\nAlso on exhibit\, Fort Bragg resident Deth P. Sun shows his paintings.\n\nFree Second Saturday Gallery Reception\, July 13\, 5pm to 8pm. Enjoy snacks and wine\, and meet the exhibiting artists.
LOCATION:Mendocino Art Center 45200 Little Lake Street Mendocino
UID:e.2883.11814
SEQUENCE:3
DTSTAMP:20260422T081203Z
URL:http://mendocinocoast.smartcms.site/events/details/mendocino-art-center-s-60th-anniversary-exhibition-celebrating-our-heritage-11814
END:VEVENT

END:VCALENDAR
