BEGIN:VCALENDAR
VERSION:2.0
PRODID:-//ChamberMaster//Event Calendar 2.0//EN
METHOD:PUBLISH
X-PUBLISHED-TTL:P3D
REFRESH-INTERVAL:P3D
CALSCALE:GREGORIAN
BEGIN:VEVENT
DTSTART:20171124T180000Z
DTEND:20171126T010000Z
X-MICROSOFT-CDO-ALLDAYEVENT:FALSE
SUMMARY:Mendocino Art Center's 58th Annual Thanksgiving Arts & Crafts Fair
DESCRIPTION:In what has become a north coast tradition\, 35 juried artists and craftspeople from throughout northern California and beyond exhibit original handmade artwork. The Mendocino Art Center's galleries and class studios are transformed into a two-day holiday marketplace\, providing residents and visitors a pleasant alternative to hectic\, stressful mall shopping while supporting local and regional artists. Featured will be a wide array of unique\, high quality artwork and gift items\, including handmade jewelry\, original paintings\, photography\, functional and decorative ceramics\, fiber art and clothing\, furniture\, wood accessories\, baskets\, glass and mosaic works\, handcrafted herbal body care products\, and so much more. Warm yourself with a delicious assortment of festive food items and drinks.\n\nThe Mendocino Art Center's Gallery Shop is also open during the Thanksgiving Arts & Crafts Fair and offers great gift ideas.
X-ALT-DESC;FMTTYPE=text/html:<p style="margin: 0px\; border: 0px none\; padding: 0px\; font-family: Verdana\, Arial\; font-size: 11px\;">In what has become a north coast tradition\, 35 juried artists and craftspeople from throughout northern California and beyond exhibit original handmade artwork. The Mendocino Art Center&rsquo\;s galleries and class studios are transformed into a two-day holiday marketplace\, providing residents and visitors a pleasant alternative to hectic\, stressful mall shopping while supporting local and regional artists. Featured will be a wide array of unique\, high quality artwork and gift items\, including handmade jewelry\, original paintings\, photography\, functional and decorative ceramics\, fiber art and clothing\, furniture\, wood accessories\, baskets\, glass and mosaic works\, handcrafted herbal body care products\, and so much more. Warm yourself with a delicious assortment of festive food items and drinks.</p>\n\n<p style="margin: 0px\; border: 0px none\; padding: 0px\; font-family: Verdana\, Arial\; font-size: 11px\;">The Mendocino Art Center&#39\;s Gallery Shop is also open during the Thanksgiving Arts &amp\; Crafts Fair and offers great gift ideas.</p>\n
LOCATION:Mendocino Art Center
UID:e.2883.1272
SEQUENCE:3
DTSTAMP:20260423T173308Z
URL:http://mendocinocoast.smartcms.site/events/details/mendocino-art-center-s-58th-annual-thanksgiving-arts-crafts-fair-1272
END:VEVENT

END:VCALENDAR
