BEGIN:VCALENDAR
VERSION:2.0
PRODID:-//ChamberMaster//Event Calendar 2.0//EN
METHOD:PUBLISH
X-PUBLISHED-TTL:P3D
REFRESH-INTERVAL:P3D
CALSCALE:GREGORIAN
BEGIN:VEVENT
DTSTART:20170127T180000Z
DTEND:20170128T010000Z
X-MICROSOFT-CDO-ALLDAYEVENT:FALSE
SUMMARY:Mendocino Art Center's 58th Annual Summer Arts & Crafts Fair
DESCRIPTION:Browse a wide variety of quality\, one-of-a-kind artwork at 50 artist booths situated outdoors among the Mendocino Art Center gardens. Wearable art lovers are in for a treat\, with an array of handmade jewelry\, as well clothing\, scarves\, bags and hats. Those looking for something for the home will find sculptural and functional ceramics\, paintings\, photography\, wood accessories\, glass works\, baskets\, gourds\, furniture items\, and more. We'll also open our art studios to the public to watch artist demonstrations. Also enjoy festive food and drinks. Admission is free.more information
X-ALT-DESC;FMTTYPE=text/html:<p>Browse a wide variety of quality\, one-of-a-kind artwork at 50 artist booths situated outdoors among the Mendocino Art Center gardens. Wearable art lovers are in for a treat\, with an array of handmade jewelry\, as well clothing\, scarves\, bags and hats. Those looking for something for the home will find sculptural and functional ceramics\, paintings\, photography\, wood accessories\, glass works\, baskets\, gourds\, furniture items\, and more. We'll also open our art studios to the public to watch artist demonstrations. Also enjoy festive food and drinks. Admission is free.</p><p><strong><a href="http://www.MendocinoArtCenter.org">more information</a></strong></p>
LOCATION:Mendocino Art Center
UID:e.2883.1103
SEQUENCE:3
DTSTAMP:20260424T110316Z
URL:http://mendocinocoast.smartcms.site/events/details/mendocino-art-center-s-58th-annual-summer-arts-crafts-fair-01-27-2017-1103
END:VEVENT

END:VCALENDAR
