BEGIN:VCALENDAR
VERSION:2.0
PRODID:-//ChamberMaster//Event Calendar 2.0//EN
METHOD:PUBLISH
X-PUBLISHED-TTL:P3D
REFRESH-INTERVAL:P3D
CALSCALE:GREGORIAN
BEGIN:VEVENT
DTSTART:20161220T200000Z
DTEND:20161221T020000Z
X-MICROSOFT-CDO-ALLDAYEVENT:FALSE
SUMMARY:Mendocino Art Center presents Nicholas Collins "More Cops" Exhibition
DESCRIPTION:Nicholas Collinsâ€™ â€œMore Copsâ€ showing in Gallery Ten is a continuation of his series of linocut prints inspired by law enforcement themes\, based on iconic images of 1970â€™s police officers. The works are printed with Caligo oil inks on acid-free paper.Â Second Saturday Gallery Reception & Open Studios:January 14\, Open Studios: 4pm-8pm\, Reception: 5pm-8pmFree admissionÂ Enjoy snacks and wine\, and meet the exhibiting artists. Join us prior to the gallery reception as we open up the art studios. Meet the 2016/17 Artists in Residence\, watch them work and view new works created in the Mendocino Art Center studios. Refreshments will be available.
X-ALT-DESC;FMTTYPE=text/html:<p>Nicholas Collinsâ€™ â€œMore Copsâ€ showing in Gallery Ten is a continuation of his series of linocut prints inspired by law enforcement themes\, based on iconic images of 1970â€™s police officers. The works are printed with Caligo oil inks on acid-free paper.</p><p>Â </p><p>Second Saturday Gallery Reception &amp\; Open Studios:</p><p>January 14\, Open Studios: 4pm-8pm\, Reception: 5pm-8pm</p><p>Free admission</p><p>Â </p><p>Enjoy snacks and wine\, and meet the exhibiting artists. Join us prior to the gallery reception as we open up the art studios. Meet the 2016/17 Artists in Residence\, watch them work and view new works created in the Mendocino Art Center studios. Refreshments will be available.</p>
LOCATION:Mendocino Art Center
UID:e.2883.1079
SEQUENCE:3
DTSTAMP:20260424T125426Z
URL:http://mendocinocoast.smartcms.site/events/details/mendocino-art-center-presents-nicholas-collins-more-cops-exhibition-12-20-2016-1079
END:VEVENT

END:VCALENDAR
