BEGIN:VCALENDAR
VERSION:2.0
PRODID:-//ChamberMaster//Event Calendar 2.0//EN
METHOD:PUBLISH
X-PUBLISHED-TTL:P3D
REFRESH-INTERVAL:P3D
CALSCALE:GREGORIAN
BEGIN:VEVENT
DTSTART:20180503T180000Z
DTEND:20180528T000000Z
X-MICROSOFT-CDO-ALLDAYEVENT:FALSE
SUMMARY:Mendocino Art Center presents Eduardo Smissen Exhibit and More
DESCRIPTION:Mendocino Art Center presents the works of the late Mendocino Coast artist Eduardo Smissen in a retrospective exhibit\, "Eduardo Was Here"\; Beth Changstrom shows her paintings in "Seeing Flowers: Space/Color/Line"\; and mixed media artist Mira M. White exhibits her oil\, acrylic\, watercolor\, soft pastel and encaustic works in "Material Matters." The Mendocino Art Center hosts a free Second Saturday Artists Reception\, May 12\, 5pm to 8pm. Enjoy snacks and wine\, and meet the exhibiting artists.
X-ALT-DESC;FMTTYPE=text/html:Mendocino Art Center presents the works of the late Mendocino Coast artist Eduardo Smissen in a retrospective exhibit\, &ldquo\;Eduardo Was Here&rdquo\;\; Beth Changstrom shows her paintings in &ldquo\;Seeing Flowers: Space/Color/Line&rdquo\;\; and mixed media artist Mira M. White exhibits her oil\, acrylic\, watercolor\, soft pastel and encaustic works in &ldquo\;Material Matters.&rdquo\; The Mendocino Art Center hosts a free Second Saturday Artists Reception\, May 12\, 5pm to 8pm. Enjoy snacks and wine\, and meet the exhibiting artists.
LOCATION:Mendocino Art Center 45200 Little Lake Street at Kasten Street\, Mendocino
UID:e.2883.5651
SEQUENCE:3
DTSTAMP:20260423T073810Z
URL:http://mendocinocoast.smartcms.site/events/details/mendocino-art-center-presents-eduardo-smissen-exhibit-and-more-5651
END:VEVENT

END:VCALENDAR
