BEGIN:VCALENDAR
VERSION:2.0
PRODID:-//ChamberMaster//Event Calendar 2.0//EN
METHOD:PUBLISH
X-PUBLISHED-TTL:P3D
REFRESH-INTERVAL:P3D
CALSCALE:GREGORIAN
BEGIN:VEVENT
DTSTART:20190206T190000Z
DTEND:20190304T000000Z
X-MICROSOFT-CDO-ALLDAYEVENT:FALSE
SUMMARY:Mendocino Art Center Gallery Exhibits
DESCRIPTION:The Mendocino Art Center gallery presents internationally renowned sculptor Howard Wheatley Allen's bronze bird sculptures\, accompanied by Rosemary Allen's paintings\, both her California abstracts and "California Worker" series. Also on exhibit\, Sandy Oppenheimer's collage artwork of birds in "Tweets\," and Emmy Lou Packard prints recently donated to the Mendocino Art Center by the Packard Estate. Free Second Saturday Gallery Reception and Artists in Residence Open Art Studios: February 9\, 5pm-8pm.
X-ALT-DESC;FMTTYPE=text/html:The Mendocino Art Center gallery presents internationally renowned sculptor Howard Wheatley Allen&rsquo\;s bronze bird sculptures\, accompanied by Rosemary Allen&rsquo\;s paintings\, both her California abstracts and &ldquo\;California Worker&rdquo\; series. Also on exhibit\, Sandy Oppenheimer&rsquo\;s collage artwork of birds in &ldquo\;Tweets\,&rdquo\; and Emmy Lou Packard prints recently donated to the Mendocino Art Center by the Packard Estate. Free Second Saturday Gallery Reception and Artists in Residence Open Art Studios: February 9\, 5pm-8pm.
LOCATION:Mendocino Art Center 45200 Little Lake Street Mendocino
UID:e.2883.10542
SEQUENCE:3
DTSTAMP:20260422T143948Z
URL:http://mendocinocoast.smartcms.site/events/details/mendocino-art-center-gallery-exhibits-10542
END:VEVENT

END:VCALENDAR
