BEGIN:VCALENDAR
VERSION:2.0
PRODID:-//ChamberMaster//Event Calendar 2.0//EN
METHOD:PUBLISH
X-PUBLISHED-TTL:P3D
REFRESH-INTERVAL:P3D
CALSCALE:GREGORIAN
BEGIN:VEVENT
DTSTART:20190307T190000Z
DTEND:20190331T230000Z
X-MICROSOFT-CDO-ALLDAYEVENT:FALSE
SUMMARY:Mendocino Art Center Gallery Exhibitions
DESCRIPTION:The Mendocino Art Center gallery presents Richard Weiss' three-dimensional and kinetic optical illusion paintings\, Ilja Tinfo's canvas paintings he has created from his favorite Old Master paintings and drawings\, and a Marine Wildlife Exhibit (opening March 2)\, with ceramic sculptural work by Kristin Coddington-Gordon and Kristen Sutteer\, accompanied by Ron LeValley's photography. Free Second Saturday Gallery Reception and Artists in Residence Open Art Studios: March 9\, 5pm-8pm.
X-ALT-DESC;FMTTYPE=text/html:The Mendocino Art Center gallery presents Richard Weiss&rsquo\; three-dimensional and kinetic optical illusion paintings\, Ilja Tinfo&rsquo\;s canvas paintings he has created from his favorite Old Master paintings and drawings\, and a Marine Wildlife Exhibit (opening March 2)\, with ceramic sculptural work by Kristin Coddington-Gordon and Kristen Sutteer\, accompanied by Ron LeValley&rsquo\;s photography. Free Second Saturday Gallery Reception and Artists in Residence Open Art Studios: March 9\, 5pm-8pm.
LOCATION:Mendocino Art Center 45200 Little Lake Street and Kasten Street Mendocino
UID:e.2883.11307
SEQUENCE:3
DTSTAMP:20260422T144121Z
URL:http://mendocinocoast.smartcms.site/events/details/mendocino-art-center-gallery-exhibitions-03-07-2019-11307
END:VEVENT

END:VCALENDAR
