BEGIN:VCALENDAR
VERSION:2.0
PRODID:-//ChamberMaster//Event Calendar 2.0//EN
METHOD:PUBLISH
X-PUBLISHED-TTL:P3D
REFRESH-INTERVAL:P3D
CALSCALE:GREGORIAN
BEGIN:VEVENT
DTSTART:20180207T190000Z
DTEND:20180304T000000Z
X-MICROSOFT-CDO-ALLDAYEVENT:FALSE
SUMMARY:Mendocino Art Center February Gallery Exhibits
DESCRIPTION:On exhibit at the Mendocino Art Center: Howard Wheatley Allen?s bronze bird sculptures\, accompanied by Rosemary Allen?s abstract paintings\, Willow Solow?s nature photography\, and artwork by a selection of Mendocino Heritage Artists ? William Zacha\, Dorr Bothwell\, Emmy Lou Packard and Hilda Pertha.
X-ALT-DESC;FMTTYPE=text/html:On exhibit at the Mendocino Art Center: Howard Wheatley Allen?s bronze bird sculptures\, accompanied by Rosemary Allen?s abstract paintings\, Willow Solow?s nature photography\, and artwork by a selection of Mendocino Heritage Artists ? William Zacha\, Dorr Bothwell\, Emmy Lou Packard and Hilda Pertha.
LOCATION:Mendocino Art Center 45200 Little Lake Street\, Mendocino
UID:e.2883.5529
SEQUENCE:3
DTSTAMP:20260423T105804Z
URL:http://mendocinocoast.smartcms.site/events/details/mendocino-art-center-february-gallery-exhibits-5529
END:VEVENT

END:VCALENDAR
