BEGIN:VCALENDAR
VERSION:2.0
PRODID:-//ChamberMaster//Event Calendar 2.0//EN
METHOD:PUBLISH
X-PUBLISHED-TTL:P3D
REFRESH-INTERVAL:P3D
CALSCALE:GREGORIAN
BEGIN:VEVENT
DTSTART:20180926T180000Z
DTEND:20181029T000000Z
X-MICROSOFT-CDO-ALLDAYEVENT:FALSE
SUMMARY:Mendocino Art Center Exhibitions: Art Explorers & More
DESCRIPTION:The Mendocino Art Center hosts Art Explorers for their Halloween-themed exhibit\, "The Tell-Tale Art   what keeps you awake at night?" Also on exhibit will be a selection of Emmy Lou Packard's artwork recently donated to the Mendocino Art Center by the Packard estate\, and Dan Scannell's "Flora & Fauna in Silver & Gold." A Free Second Saturday Gallery Reception will be held Saturday\, October 13\, 5pm to 8pm.
X-ALT-DESC;FMTTYPE=text/html:The Mendocino Art Center hosts Art Explorers for their Halloween-themed exhibit\, &ldquo\;The Tell-Tale Art &ndash\; what keeps you awake at night?&rdquo\; Also on exhibit will be a selection of Emmy Lou Packard&rsquo\;s artwork recently donated to the Mendocino Art Center by the Packard estate\, and Dan Scannell&rsquo\;s &ldquo\;Flora &amp\; Fauna in Silver &amp\; Gold.&rdquo\; A Free Second Saturday Gallery Reception will be held Saturday\, October 13\, 5pm to 8pm.
LOCATION:Mendocino Art Center 45200 Little Lake Street\, Mendocino
UID:e.2883.9396
SEQUENCE:3
DTSTAMP:20260423T003648Z
URL:http://mendocinocoast.smartcms.site/events/details/mendocino-art-center-exhibitions-art-explorers-more-9396
END:VEVENT

END:VCALENDAR
