BEGIN:VCALENDAR
VERSION:2.0
PRODID:-//ChamberMaster//Event Calendar 2.0//EN
METHOD:PUBLISH
X-PUBLISHED-TTL:P3D
REFRESH-INTERVAL:P3D
CALSCALE:GREGORIAN
BEGIN:VEVENT
DTSTART:20190404T180000Z
DTEND:20190428T230000Z
X-MICROSOFT-CDO-ALLDAYEVENT:FALSE
SUMMARY:Mendocino Art Center April Gallery Exhibitions
DESCRIPTION:Mendocino Art Center's Artists in Residence Exhibit\, an eagerly anticipated annual showing\, features a wide spectrum of new artwork   including ceramics\, paintings\, printmaking\, textiles and sculptural works   created by eleven artists during their residencies at the Mendocino Art Center. Also on exhibit will be small-scale ceramic sculptures and mixed media drawings by Mendocino Coast artist Sarah Logan\, who was a Mendocino Art Center Artist in Residence from 2006 to 2008. Free Second Saturday Gallery Reception\, April 13\, 5pm to 8pm. Enjoy snacks and wine\, and meet the exhibiting artists.
X-ALT-DESC;FMTTYPE=text/html:Mendocino Art Center&rsquo\;s Artists in Residence Exhibit\, an eagerly anticipated annual showing\, features a wide spectrum of new artwork &ndash\; including ceramics\, paintings\, printmaking\, textiles and sculptural works &ndash\; created by eleven artists during their residencies at the Mendocino Art Center. Also on exhibit will be small-scale ceramic sculptures and mixed media drawings by Mendocino Coast artist Sarah Logan\, who was a Mendocino Art Center Artist in Residence from 2006 to 2008. Free Second Saturday Gallery Reception\, April 13\, 5pm to 8pm. Enjoy snacks and wine\, and meet the exhibiting artists.
LOCATION:Mendocino Art Center 45200 Little Lake Street Mendocino
UID:e.2883.11391
SEQUENCE:3
DTSTAMP:20260422T125520Z
URL:http://mendocinocoast.smartcms.site/events/details/mendocino-art-center-april-gallery-exhibitions-11391
END:VEVENT

END:VCALENDAR
