BEGIN:VCALENDAR
VERSION:2.0
PRODID:-//ChamberMaster//Event Calendar 2.0//EN
METHOD:PUBLISH
X-PUBLISHED-TTL:P3D
REFRESH-INTERVAL:P3D
CALSCALE:GREGORIAN
BEGIN:VEVENT
DTSTART:20180704T190000Z
DTEND:20180704T210000Z
X-MICROSOFT-CDO-ALLDAYEVENT:FALSE
SUMMARY:Mendocino 4th of July Parade
DESCRIPTION:Annual Mendocino 4th of July Parade.\n\n2018 theme: "American Pie"\n\n\n\nClick the "Register Now" button if you'd like to sponsor and help us to keep this community tradition going!
X-ALT-DESC;FMTTYPE=text/html:<strong>Annual Mendocino 4th of July Parade.<br />\n2018 theme: &quot\;American Pie&quot\;</strong><br />\n<br />\nClick the &quot\;Register Now&quot\; button if you&#39\;d like to sponsor and help us to keep this community tradition going!
LOCATION:Mendocino Village
UID:e.2883.1472
SEQUENCE:3
DTSTAMP:20260423T040835Z
URL:http://mendocinocoast.smartcms.site/events/details/mendocino-4th-of-july-parade-1472
END:VEVENT

END:VCALENDAR
