BEGIN:VCALENDAR
VERSION:2.0
PRODID:-//ChamberMaster//Event Calendar 2.0//EN
METHOD:PUBLISH
X-PUBLISHED-TTL:P3D
REFRESH-INTERVAL:P3D
CALSCALE:GREGORIAN
BEGIN:VEVENT
DTSTART:20181005T233000Z
DTEND:20181006T020000Z
X-MICROSOFT-CDO-ALLDAYEVENT:FALSE
SUMMARY:Memory Box Classes
DESCRIPTION:Interior is proud to partner with Friends of Hospice to host two Memory Box classes\, on October 5 from 4:30 to 7:00 pm and on October 13 from 1:00 to 4:00 pm\, at 224 East Redwood Avenue in the heart of Fort Bragg. This First Friday you can connect with loved ones including your fur family by making memory boxes. We will also have drinks\, snacks and music. Bring the entire family! We'll supply the boxes\, tools and craft supplies. You bring photographs\, typed words\, phrases or other pieces which meaningfully connects you with your loved ones who have passed. $10.00 suggested donation. Call (707) 962-1651 with any questions. We look forward to seeing you there!
X-ALT-DESC;FMTTYPE=text/html:Interior is proud to partner with Friends of Hospice to host two Memory Box classes\, on October 5 from 4:30 to 7:00 pm and on October 13 from 1:00 to 4:00 pm\, at 224 East Redwood Avenue in the heart of Fort Bragg. This First Friday you can connect with loved ones including your fur family by making memory boxes. We will also have drinks\, snacks and music. Bring the entire family! We&#39\;ll supply the boxes\, tools and craft supplies. You bring photographs\, typed words\, phrases or other pieces which meaningfully connects you with your loved ones who have passed. $10.00 suggested donation. Call (707) 962-1651 with any questions. We look forward to seeing you there!
LOCATION:Interior 224 East Redwood Avenue Fort Bragg\, CA 95437
UID:e.2883.10273
SEQUENCE:3
DTSTAMP:20260422T225038Z
URL:http://mendocinocoast.smartcms.site/events/details/memory-box-classes-10273
END:VEVENT

END:VCALENDAR
