BEGIN:VCALENDAR
VERSION:2.0
PRODID:-//ChamberMaster//Event Calendar 2.0//EN
METHOD:PUBLISH
X-PUBLISHED-TTL:P3D
REFRESH-INTERVAL:P3D
CALSCALE:GREGORIAN
BEGIN:VEVENT
DTSTART:20190424T010000Z
DTEND:20190424T030000Z
X-MICROSOFT-CDO-ALLDAYEVENT:FALSE
SUMMARY:Meet the Author! an evening with Philip Zwerling
DESCRIPTION:Fort Bragg Library presents "Meet the Author! an evening with Philip Zwerling". Philip is the author of "Eyes On Havana: The Memoir of an American Spy betrayed by the CIA" and "Nicaragua: A New Kind of Revolution". Newly retired to the Fort Bragg area\, Mr. Zwerling is the former Associate Professor of Creative Writing and Director of the Creative Writing Program at the University of Texas\, Rio Grande Valley where he specialized in teaching play-writing\, screenwriting\, and dramatic literature at the graduate and undergraduate levels.
X-ALT-DESC;FMTTYPE=text/html:Fort Bragg Library presents &ldquo\;Meet the Author! an evening with Philip Zwerling&rdquo\;. Philip is the author of &ldquo\;Eyes On Havana: The Memoir of an American Spy betrayed by the CIA&rdquo\; and &ldquo\;Nicaragua: A New Kind of Revolution&rdquo\;. Newly retired to the Fort Bragg area\, Mr. Zwerling is the former Associate Professor of Creative Writing and Director of the Creative Writing Program at the University of Texas\, Rio Grande Valley where he specialized in teaching play-writing\, screenwriting\, and dramatic literature at the graduate and undergraduate levels.
LOCATION:Fort Bragg Library 499 E Laurel St Fort Bragg\, CA 95437
UID:e.2883.11368
SEQUENCE:3
DTSTAMP:20260422T125343Z
URL:http://mendocinocoast.smartcms.site/events/details/meet-the-author-an-evening-with-philip-zwerling-11368
END:VEVENT

END:VCALENDAR
