BEGIN:VCALENDAR
VERSION:2.0
PRODID:-//ChamberMaster//Event Calendar 2.0//EN
METHOD:PUBLISH
X-PUBLISHED-TTL:P3D
REFRESH-INTERVAL:P3D
CALSCALE:GREGORIAN
BEGIN:VEVENT
DTSTART:20180412T010000Z
DTEND:20180412T023000Z
X-MICROSOFT-CDO-ALLDAYEVENT:FALSE
SUMMARY:Meet the 5th District Supervisor Candidates Forum
DESCRIPTION:The Mendocino Coast Chamber of Commerce is inviting the public to a meet the candidates forum at The Little River Inn Wednesday\, April 11th at 6pm. The forum will feature all of the candidates running for the Mendocino County 5th District Supervisor seat representing the South County.  The candidates are Arthur Juhl\, David Roderick\, Alan Rodier\, Chris Skyhawk and Ted Williams.  The general election is Tuesday\, June 5th\, 2018.\n\n\nTom Yates of The Coast KOZT will be the facilitator.  Each candidate will be given two minutes for opening remarks then questions will be taken from the audience.  Candidates will be given two minutes for closing remarks. Upon arrival\, candidates will draw numbers to determine the order of appearance.\n\n\n\nThis non-partisan session will provide the voters of the 5th District information on each of the candidates allowing voters to make informed decisions.\n\n\n\nThe event is free and open to the public.
X-ALT-DESC;FMTTYPE=text/html:<div><span style="font-family:tahoma\;"><span style="color: rgb(0\, 0\, 0)\;">The Mendocino Coast Chamber of Commerce is inviting the public to a meet the candidates forum at The Little River Inn Wednesday\, April 11th at 6pm. The forum&nbsp\;will feature&nbsp\;all of the candidates running for the Mendocino County 5th&nbsp\;District Supervisor seat representing the South County. &nbsp\;The candidates are Arthur Juhl\, David Roderick\, Alan Rodier\, Chris Skyhawk&nbsp\;and Ted&nbsp\;Williams. &nbsp\;The general election is Tuesday\,&nbsp\;June 5th\, 2018.</span></span></div>\n<br />\n<span style="font-family:tahoma\;">Tom Yates of The Coast KOZT will be the facilitator.&nbsp\; <span style="color: rgb(0\, 0\, 0)\;">Each candidate will be given two minutes for opening remarks then questions will be taken from the audience. &nbsp\;Candidates will be given two minutes for&nbsp\;closing remarks. Upon&nbsp\;arrival\, candidates will draw numbers to determine the order of appearance.</span><br />\n<br />\n<span style="color: rgb(0\, 0\, 0)\;">This&nbsp\;</span><span style="color: rgb(0\, 0\, 0)\;">non-partisan&nbsp\;</span><span style="color: rgb(0\, 0\, 0)\;">session will provide the voters of the 5th District information on each of the candidates allowing voters to make informed decisions.<br />\n<br />\nThe event is free and open to the public.</span></span>
LOCATION:Abalone Room at the Little River Inn.
UID:e.2883.5591
SEQUENCE:3
DTSTAMP:20260423T123253Z
URL:http://mendocinocoast.smartcms.site/events/details/meet-the-5th-district-supervisor-candidates-forum-5591
END:VEVENT

END:VCALENDAR
