BEGIN:VCALENDAR
VERSION:2.0
PRODID:-//ChamberMaster//Event Calendar 2.0//EN
METHOD:PUBLISH
X-PUBLISHED-TTL:P3D
REFRESH-INTERVAL:P3D
CALSCALE:GREGORIAN
BEGIN:VEVENT
DTSTART:20200303T170000Z
DTEND:20200303T190000Z
X-MICROSOFT-CDO-ALLDAYEVENT:FALSE
SUMMARY:Marketing Basics
DESCRIPTION:Learn the basics that make up a marketing strategy. Your marketing strategy will focus on the internal and external things that will attract and retain your best customers. Participants will begin to develop their marketing mix\, marketing funnel and an understanding of what quantification should be monitored to ensure success. What you will learn: 6 key pieces of a marketing strategy Understand how to draft a strategic marketing message Identify key marketing channels that will attract your target market
X-ALT-DESC;FMTTYPE=text/html:Learn the basics that make up a marketing strategy. Your marketing strategy will focus on the internal and external things that will attract and retain your best customers. Participants will begin to develop their marketing mix\, marketing funnel and an understanding of what quantification should be monitored to ensure success. What you will learn: 6 key pieces of a marketing strategy Understand how to draft a strategic marketing message Identify key marketing channels that will attract your target market
LOCATION:West Business Development Center\, 345 N Franklin St. Fort Bragg\, CA
UID:e.2883.12885
SEQUENCE:3
DTSTAMP:20260421T184025Z
URL:http://mendocinocoast.smartcms.site/events/details/marketing-basics-12885
END:VEVENT

END:VCALENDAR
