BEGIN:VCALENDAR
VERSION:2.0
PRODID:-//ChamberMaster//Event Calendar 2.0//EN
METHOD:PUBLISH
X-PUBLISHED-TTL:P3D
REFRESH-INTERVAL:P3D
CALSCALE:GREGORIAN
BEGIN:VEVENT
DTSTART:20190120T020000Z
DTEND:20190120T050000Z
X-MICROSOFT-CDO-ALLDAYEVENT:FALSE
SUMMARY:Marcus McCallen Folk-Rock with Soul
DESCRIPTION:Heritage House Presents: Marcus McCallen and Special Guests Folk-Rock with Soul Saturdays Jan- 19\, Feb - 2 & 16\, March-2\, 16\, 30\, April 13 and more to come! 6-9pm at Heritage House Resort & Spa - 5200 Hwy One\, Little River CA Every other Saturday Night Enjoy an early evening out with great music\, delicious food & drink\, friends -- and the most breathtaking views on the Mendocino Coast. Family Friendly
X-ALT-DESC;FMTTYPE=text/html:Heritage House Presents: Marcus McCallen and Special Guests Folk-Rock with Soul Saturdays Jan- 19\, Feb - 2 &amp\; 16\, March-2\, 16\, 30\, April 13 and more to come! 6-9pm at Heritage House Resort &amp\; Spa - 5200 Hwy One\, Little River CA Every other Saturday Night Enjoy an early evening out with great music\, delicious food &amp\; drink\, friends -- and the most breathtaking views on the Mendocino Coast. Family Friendly
LOCATION:Heritage House Resort 5200 CA-1\, Little River\, CA Phone: (707) 202-9000
UID:e.2883.10528
SEQUENCE:3
DTSTAMP:20260422T174306Z
URL:http://mendocinocoast.smartcms.site/events/details/marcus-mccallen-folk-rock-with-soul-10528
END:VEVENT

END:VCALENDAR
