BEGIN:VCALENDAR
VERSION:2.0
PRODID:-//ChamberMaster//Event Calendar 2.0//EN
METHOD:PUBLISH
X-PUBLISHED-TTL:P3D
REFRESH-INTERVAL:P3D
CALSCALE:GREGORIAN
BEGIN:VEVENT
DTSTART:20181208T033000Z
DTEND:20181208T053000Z
X-MICROSOFT-CDO-ALLDAYEVENT:FALSE
SUMMARY:Marcus McCallen Band
DESCRIPTION:Marcus McCallen will make his encore Sequoia Room performance after last year's Release Party for his disc\, Oh\, California. Performers will include: Marcus McCallen   vocals and guitar\, John Bush   bass\, Morgan Daniel   guitar\, Ralph Humphrey   drums\, and Special Guest artist Bill Bottrell Marcus McCallen has been an integral part of the Northern California music scene for over twenty years. Recognized as a versatile\, soulful singer/songwriter and accomplished guitarist\, he has shared the stage with Van Morrison\, Chris Isaak\, Jerry Jeff Walker\, Jessie Colin Young\, The Pointer Sisters\, The Sons of Champlin\, Peter Rowan\, The Rowan Brothers\, Richard Marks and many others.
X-ALT-DESC;FMTTYPE=text/html:Marcus McCallen will make his encore Sequoia Room performance after last year&rsquo\;s Release Party for his disc\, Oh\, California. Performers will include: Marcus McCallen &ndash\; vocals and guitar\, John Bush &ndash\; bass\, Morgan Daniel &ndash\; guitar\, Ralph Humphrey &ndash\; drums\, and Special Guest artist Bill Bottrell Marcus McCallen has been an integral part of the Northern California music scene for over twenty years. Recognized as a versatile\, soulful singer/songwriter and accomplished guitarist\, he has shared the stage with Van Morrison\, Chris Isaak\, Jerry Jeff Walker\, Jessie Colin Young\, The Pointer Sisters\, The Sons of Champlin\, Peter Rowan\, The Rowan Brothers\, Richard Marks and many others.
LOCATION:The Sequoia Room at The North Coast Brewing Co.
UID:e.2883.10386
SEQUENCE:3
DTSTAMP:20260422T192816Z
URL:http://mendocinocoast.smartcms.site/events/details/marcus-mccallen-band-10386
END:VEVENT

END:VCALENDAR
