BEGIN:VCALENDAR
VERSION:2.0
PRODID:-//ChamberMaster//Event Calendar 2.0//EN
METHOD:PUBLISH
X-PUBLISHED-TTL:P3D
REFRESH-INTERVAL:P3D
CALSCALE:GREGORIAN
BEGIN:VEVENT
DTSTART:20180818T160000Z
DTEND:20180819T230000Z
X-MICROSOFT-CDO-ALLDAYEVENT:FALSE
SUMMARY:Magical Mendocino Sea Caves
DESCRIPTION:Sea Kayak into the Sea Caves of the Mendocino Coast\n\nExperience the magic of sea kayaking into Mendocino's sea caves.  We will share the tips n tricks for exploring sea caves as we spend 2 full days journeying into our favorite caves\, arches\, and tunnels on the Mendocino Coast.\n\nWe will be using single touring kayaks for this trip.  Previous sea kayak training  and skills are necessary.  \n\nUse this link for more information and reservations.
X-ALT-DESC;FMTTYPE=text/html:<h1 style="text-align:center"><strong>Sea Kayak into the Sea Caves of the Mendocino Coast</strong></h1>\n\n<p>Experience the magic of sea kayaking into Mendocino&#39\;s sea caves. &nbsp\;We will share the tips n tricks for exploring sea caves as we spend 2 full days journeying into our favorite caves\, arches\, and tunnels on the Mendocino Coast.</p>\n\n<p>We will be using single touring kayaks for this trip. &nbsp\;Previous sea kayak training &nbsp\;and skills are necessary.&nbsp\;&nbsp\;</p>\n\n<p>Use this <a href="https://liquidfusionkayak.com/events/2018/8/18/magical-mendocino-sea-caves">link</a> for more information and reservations.</p>\n
LOCATION:
UID:e.2883.9101
SEQUENCE:3
DTSTAMP:20260423T022932Z
URL:http://mendocinocoast.smartcms.site/events/details/magical-mendocino-sea-caves-9101
END:VEVENT

END:VCALENDAR
