BEGIN:VCALENDAR
VERSION:2.0
PRODID:-//ChamberMaster//Event Calendar 2.0//EN
METHOD:PUBLISH
X-PUBLISHED-TTL:P3D
REFRESH-INTERVAL:P3D
CALSCALE:GREGORIAN
BEGIN:VEVENT
DTSTART:20180616T210000Z
DTEND:20180617T000000Z
X-MICROSOFT-CDO-ALLDAYEVENT:FALSE
SUMMARY:Lucky Otis & Sarah Flaim
DESCRIPTION:Enjoy the mesmerizing sounds of Lucky Otis & Sarah Flaim at the beautiful Pacific Star Winery!
X-ALT-DESC;FMTTYPE=text/html:Enjoy the mesmerizing sounds of Lucky Otis &amp\; Sarah Flaim at the beautiful Pacific Star Winery!
LOCATION:Pacific Star Winery
UID:e.2883.8990
SEQUENCE:3
DTSTAMP:20260423T055805Z
URL:http://mendocinocoast.smartcms.site/events/details/lucky-otis-sarah-flaim-8990
END:VEVENT

END:VCALENDAR
