BEGIN:VCALENDAR
VERSION:2.0
PRODID:-//ChamberMaster//Event Calendar 2.0//EN
METHOD:PUBLISH
X-PUBLISHED-TTL:P3D
REFRESH-INTERVAL:P3D
CALSCALE:GREGORIAN
BEGIN:VEVENT
DTSTART:20171101T180000Z
DTEND:20171201T000000Z
X-MICROSOFT-CDO-ALLDAYEVENT:FALSE
SUMMARY:Live Mushroom Display
DESCRIPTION:This is the season for mushrooms to start appearing through out the area. We celebrate the colorful and fun fungi by having a month long live mushroom display here at the Ford House Museum. Along with the live mushroom display we have a wonderful photo display of mushroom photography from biologist and professional photographer Ron LeValley. Please stop by and see all that the colorful fall season of fingi has to offer.
X-ALT-DESC;FMTTYPE=text/html:This is the season for mushrooms to start appearing through out the area. We celebrate the colorful and fun fungi by having a month long live mushroom display here at the Ford House Museum. Along with the live mushroom display we have a wonderful photo display of mushroom photography from biologist and professional photographer Ron LeValley. Please stop by and see all that the colorful fall season of fingi has to offer.&nbsp\;
LOCATION:Ford House Museum and Visitor Center 45035 Main Street Mendocino\, CA 95460
UID:e.2883.4445
SEQUENCE:3
DTSTAMP:20260423T191046Z
URL:http://mendocinocoast.smartcms.site/events/details/live-mushroom-display-4445
END:VEVENT

END:VCALENDAR
