BEGIN:VCALENDAR
VERSION:2.0
PRODID:-//ChamberMaster//Event Calendar 2.0//EN
METHOD:PUBLISH
X-PUBLISHED-TTL:P3D
REFRESH-INTERVAL:P3D
CALSCALE:GREGORIAN
BEGIN:VEVENT
DTSTART:20181101T180000Z
DTEND:20190101T000000Z
X-MICROSOFT-CDO-ALLDAYEVENT:FALSE
SUMMARY:Live Mushroom Display
DESCRIPTION:The Ford House will have a live mushroom exhibit on display throughout the month of November and December. Also on exhibit will be artwork and photography by local artist and Marine Biologist Ron LeValley. Alison Gardner and Merry Winslow\, authors of "The Wild Mushroom Cookbook" will be at the Ford House on second Saturday November 10th. From 4-7 pm. They have Farmed\, Foraged and Fermented local mushrooms and will be serving teas and tasty dips made from their recipe book. They would be happy to sign one of their books for you at your request. Great for families\, children and those with certain disabilities that may prevent them from viewing mushrooms in their natural habitats. The Ford House also serves as a visitor information center.
X-ALT-DESC;FMTTYPE=text/html:The Ford House will have a live mushroom exhibit on display throughout the month of November and December. Also on exhibit will be artwork and photography by local artist and Marine Biologist Ron LeValley. Alison Gardner and Merry Winslow\, authors of &ldquo\;The Wild Mushroom Cookbook&rdquo\; will be at the Ford House on second Saturday November 10th. From 4-7 pm. They have Farmed\, Foraged and Fermented local mushrooms and will be serving teas and tasty dips made from their recipe book. They would be happy to sign one of their books for you at your request. Great for families\, children and those with certain disabilities that may prevent them from viewing mushrooms in their natural habitats. The Ford House also serves as a visitor information center.
LOCATION:45035 Main Street Mendocino\, CA 95460
UID:e.2883.10335
SEQUENCE:3
DTSTAMP:20260422T192846Z
URL:http://mendocinocoast.smartcms.site/events/details/live-mushroom-display-11-01-2018-10335
END:VEVENT

END:VCALENDAR
