BEGIN:VCALENDAR
VERSION:2.0
PRODID:-//ChamberMaster//Event Calendar 2.0//EN
METHOD:PUBLISH
X-PUBLISHED-TTL:P3D
REFRESH-INTERVAL:P3D
CALSCALE:GREGORIAN
BEGIN:VEVENT
DTSTART:20160802T150000Z
DTEND:20160802T190000Z
X-MICROSOFT-CDO-ALLDAYEVENT:FALSE
SUMMARY:Lions Pancake Breakfast
DESCRIPTION:Enjoy pancakes\, eggs\, sausage\, fruit salad\, OJ and CoffeeAll for only $8Tickets available at the door
X-ALT-DESC;FMTTYPE=text/html:<p>Enjoy pancakes\, eggs\, sausage\, fruit salad\, OJ and Coffee</p><p>All for only $8</p><p>Tickets available at the door</p>
LOCATION:Mendocino Firehouse
UID:e.2883.990
SEQUENCE:3
DTSTAMP:20260424T194006Z
URL:http://mendocinocoast.smartcms.site/events/details/lions-pancake-breakfast-08-02-2016-990
END:VEVENT

END:VCALENDAR
