BEGIN:VCALENDAR
VERSION:2.0
PRODID:-//ChamberMaster//Event Calendar 2.0//EN
METHOD:PUBLISH
X-PUBLISHED-TTL:P3D
REFRESH-INTERVAL:P3D
CALSCALE:GREGORIAN
BEGIN:VEVENT
DTSTART;VALUE=DATE:20170519
DTEND;VALUE=DATE:20170520
TRANSP:TRANSPARENT
X-MICROSOFT-CDO-ALLDAYEVENT:TRUE
SUMMARY:Lions Pancake Breakfast
DESCRIPTION:Enjoy pancakes\, sausage\, eggs and fruit salad!   All for only $8\n\nProceeds benefit the Fort Bragg-Mendocino Lions Club Eye Care Assistance Program
X-ALT-DESC;FMTTYPE=text/html:<p>Enjoy pancakes\, sausage\, eggs and fruit salad! &Acirc\;&nbsp\;All for only $8</p>\n\n<p>Proceeds benefit the Fort Bragg-Mendocino Lions Club Eye Care Assistance Program</p>\n
LOCATION:Mendocino Firehouse
UID:e.2883.1207
SEQUENCE:3
DTSTAMP:20260424T042605Z
URL:http://mendocinocoast.smartcms.site/events/details/lions-pancake-breakfast-05-19-2017-1207
END:VEVENT

END:VCALENDAR
