BEGIN:VCALENDAR
VERSION:2.0
PRODID:-//ChamberMaster//Event Calendar 2.0//EN
METHOD:PUBLISH
X-PUBLISHED-TTL:P3D
REFRESH-INTERVAL:P3D
CALSCALE:GREGORIAN
BEGIN:VEVENT
DTSTART:20180903T190000Z
DTEND:20180903T230000Z
X-MICROSOFT-CDO-ALLDAYEVENT:FALSE
SUMMARY:Lions Labor Day BBQ !
DESCRIPTION:Monday\, September 3rd\, the place to be is the Lions Labor Day BBQ hosted by\, and supporting the charitable programs of\, the Fort Bragg-Mendocino Lions Club and Veterans of Foreign Wars. Immediately following the parade\, follow the enticing aroma of grilling to the Veteran's Hall and Bainbridge Park on Laurel/Harrison-just 2 short blocks from the parade! Enjoy delicious beef\, pork\, goat\, and lamb\, featuring locally raised and hand selected cuts will be served along with beans\, coleslaw and bread to accompany. Veggie Burgers and hot dogs for kids will also be available. Our live band will be Butch Kwan and Friends\, with silent auction\, raffle\, and announcement of parade winners. Hours: 12 noon to 4 PM\, while supplies last! Discounted advance tickets available at Harvest Market/Boatyard or online: https://squareup.com/store/fort-bragg-lions-club/item/labor-day-bbq Advance Adults: $13 At Door: $15 Advance Youth (under 12)\, Senior (over 60)\, Military (Must have ID): $8 At Door: $10
X-ALT-DESC;FMTTYPE=text/html:Monday\, September 3rd\, the place to be is the Lions Labor Day BBQ hosted by\, and supporting the charitable programs of\, the Fort Bragg-Mendocino Lions Club and Veterans of Foreign Wars. Immediately following the parade\, follow the enticing aroma of grilling to the Veteran&rsquo\;s Hall and Bainbridge Park on Laurel/Harrison-just 2 short blocks from the parade! Enjoy delicious beef\, pork\, goat\, and lamb\, featuring locally raised and hand selected cuts will be served along with beans\, coleslaw and bread to accompany. Veggie Burgers and hot dogs for kids will also be available. Our live band will be Butch Kwan and Friends\, with silent auction\, raffle\, and announcement of parade winners. Hours: 12 noon to 4 PM\, while supplies last! Discounted advance tickets available at Harvest Market/Boatyard or online: https://squareup.com/store/fort-bragg-lions-club/item/labor-day-bbq Advance Adults: $13 At Door: $15 Advance Youth (under 12)\, Senior (over 60)\, Military (Must have ID): $8 At Door: $10
LOCATION:Veteran's Hall and Bainbridge Park 360 North Harrison on the corner of Laurel\, Fort Bragg
UID:e.2883.9147
SEQUENCE:3
DTSTAMP:20260423T022336Z
URL:http://mendocinocoast.smartcms.site/events/details/lions-labor-day-bbq-9147
END:VEVENT

END:VCALENDAR
