BEGIN:VCALENDAR
VERSION:2.0
PRODID:-//ChamberMaster//Event Calendar 2.0//EN
METHOD:PUBLISH
X-PUBLISHED-TTL:P3D
REFRESH-INTERVAL:P3D
CALSCALE:GREGORIAN
BEGIN:VEVENT
DTSTART:20160802T190000Z
DTEND:20160802T110000Z
X-MICROSOFT-CDO-ALLDAYEVENT:FALSE
SUMMARY:Lions Labor Day BBQ !
DESCRIPTION:Labor Day BBQ! \nAbout the event:\nMonday\, September 5th â€“ right after the Paul Bunyan Daysâ€™ parade â€“ the place to be is the big Labor Day BBQ hosted by the Fort Bragg/Mendocino Lions Club.\nFollow the enticing aroma of grilling meat to the field on Toddâ€™s Point â€“ the same place you watched the action-packed logging show just the day before. Delicious beef\, pork and lamb\, goat\, featuring locally raised and hand selected cuts will be served along with plenty of beans\, salad and bread to accompany. Veggie Burgers will also be available. THE LAMB AND GOAT SELL OUT FAST - so get there early!\n\nSAVE $2 AND GET ADVANCE TICKETS AT HARVEST MARKET/BOATYARD\n\nADULTS $13 ADVANCE $15 AT THE DOOR\n\nYOUTH (UNDER 12)\nSENIORS (60 AND OVER)\nMILITARY $8 ADVANCE $10 AT THE DOOR
X-ALT-DESC;FMTTYPE=text/html:<p><span>Labor Day BBQ! </span><br /><span>About the event:</span><br /><span>Monday\, September 5th â€“ right after the Paul Bunyan Daysâ€™ parade â€“ the place to be is the big Labor Day BBQ hosted by the Fort Bragg/Mendocino Lions Club.</span><br /><span>Follow the enticing aroma of grilling meat to the field on Toddâ€™s Point â€“ the same place you watched the action-packed logging show just the day before. Delicious beef\, pork and lamb\, goat\, featuring locally raised and hand selected cuts will be served along with plenty of beans\, salad and bread to accompany. Veggie Burgers will also be available. THE LAMB AND GOAT SELL OUT FAST - so get there early!</span><br /><br /><span>SAVE $2 AND GET ADVANCE TICKETS AT HARVEST MARKET/BOATYARD</span><br /><br /><span>ADULTS $13 ADVANCE $15 AT THE DOOR</span><br /><br /><span>YOUTH (UNDER 12)</span><br /><span>SENIORS (60 AND OVER)</span><br /><span>MILITARY $8 ADVANCE $10 AT THE DOOR</span></p>
LOCATION:College of Redwoods Field FORT BRAGG
UID:e.2883.989
SEQUENCE:3
DTSTAMP:20260424T194015Z
URL:http://mendocinocoast.smartcms.site/events/details/lions-labor-day-bbq-08-02-2016-989
END:VEVENT

END:VCALENDAR
