BEGIN:VCALENDAR
VERSION:2.0
PRODID:-//ChamberMaster//Event Calendar 2.0//EN
METHOD:PUBLISH
X-PUBLISHED-TTL:P3D
REFRESH-INTERVAL:P3D
CALSCALE:GREGORIAN
BEGIN:VEVENT
DTSTART;VALUE=DATE:20170320
DTEND;VALUE=DATE:20170321
TRANSP:TRANSPARENT
X-MICROSOFT-CDO-ALLDAYEVENT:TRUE
SUMMARY:Les Filles Rouges
DESCRIPTION:Polaris Dance Troupe and Gloriana present an encore evening of burlesque at Eagles Hall on Friday\, March 31st\, at 8pm.\nFounded in Mendocino in 2011\, Les Filles Rouges represents a unique blend of dance\, comedy\, and empowerment- much more than a series of strip teases. Their new show is a send-up of the Fairytale genre and the Disneyfication of classic stories. The cast is full of well-known characters such as Sleeping Beauty and Cinderella but without the theme of "damsels in distress".\nPolaris Dance Troupe's founder\, Melinda Miller-Klopfer\, gained inspiration for Les Filles Rouges from her time spent living in Berlin and her frequent travels to Paris\, both cities where the burlesque tradition has a long and politically charged history. Miller-Klopfer coined the term "Progressive Burlesque" to describe her Mendocino troupe's style\, having experienced the profound effect of burlesque on her own life and the lives of many of the troupe's dancers. Using sensuality and comedy as tools of empowerment for both the performers and the audience "progressive burlesque" aims to enrich as well as titillate. Her burlesque philosophy was most recently featured on Yahoo! news: http://bit.do/burlesque.\nAs ever\, Les Filles Rouges believes in supporting women on and off stage\, and in that spirit\, a portion of the show's proceeds will benefit Planned Parenthood.\nTickets are available through Brown Paper Tickets and are $25 in advance and $30 at the door.\nThe theatre bar will be open\, and the show is limited to those over 21.\nContact: Melinda Miller-Klop ferferalballerina@gmail.com
X-ALT-DESC;FMTTYPE=text/html:<p>Polaris Dance Troupe and Gloriana present an encore evening of burlesque at Eagles Hall on Friday\, March 31st\, at 8pm.</p><p><br />Founded in Mendocino in 2011\, Les Filles Rouges represents a unique blend of dance\, comedy\, and empowerment- much more than a series of strip teases. Their new show is a send-up of the Fairytale genre and the Disneyfication of classic stories. The cast is full of well-known characters such as Sleeping Beauty and Cinderella but without the theme of "damsels in distress".</p><p><br />Polaris Dance Troupe's founder\, Melinda Miller-Klopfer\, gained inspiration for Les Filles Rouges from her time spent living in Berlin and her frequent travels to Paris\, both cities where the burlesque tradition has a long and politically charged history. Miller-Klopfer coined the term "Progressive Burlesque" to describe her Mendocino troupe's style\, having experienced the profound effect of burlesque on her own life and the lives of many of the troupe's dancers. Using sensuality and comedy as tools of empowerment for both the performers and the audience "progressive burlesque" aims to enrich as well as titillate. Her burlesque philosophy was most recently featured on Yahoo! news: http://bit.do/burlesque.</p><p><br />As ever\, Les Filles Rouges believes in supporting women on and off stage\, and in that spirit\, a portion of the show's proceeds will benefit Planned Parenthood.</p><p><br />Tickets are available through Brown Paper Tickets and are $25 in advance and $30 at the door.</p><p><br />The theatre bar will be open\, and the show is limited to those over 21.</p><p><br />Contact: Melinda Miller-Klop ferferalballerina@gmail.com</p>
LOCATION:Eagles Hall Theatre Fort Bragg
UID:e.2883.1162
SEQUENCE:3
DTSTAMP:20260424T075856Z
URL:http://mendocinocoast.smartcms.site/events/details/les-filles-rouges-03-20-2017-1162
END:VEVENT

END:VCALENDAR
