BEGIN:VCALENDAR
VERSION:2.0
PRODID:-//ChamberMaster//Event Calendar 2.0//EN
METHOD:PUBLISH
X-PUBLISHED-TTL:P3D
REFRESH-INTERVAL:P3D
CALSCALE:GREGORIAN
BEGIN:VEVENT
DTSTART:20190608T170000Z
DTEND:20190608T230000Z
X-MICROSOFT-CDO-ALLDAYEVENT:FALSE
SUMMARY:Lens Tours at Point Cabrillo
DESCRIPTION:Join us on the second Saturday in June for a Lens Tour to the top of our historic 1909 Lighthouse! From 10am - 4pm on June 8\, we'll be offering tours to the Lens Room of the Point Cabrillo Light Station.   10am - 4pm   $5 per person   Must be 42" or taller These tours are only offered eight times a year\, and are a treat to experience. You'll have excellent views and enticing stories of the lightkeepers that lived on the grounds as you climb the ladders to the top. Tours typically take about 45 minutes altogether\, and a new group goes up every 10-15 minutes! You'll stop on each floor and learn fascinating facts from our excellent volunteer docents. Point Cabrillo Lightkeepers Association (PCLK) volunteer docents will highlight Light Station history and local culture with visitor presentations at the Lighthouse and other locations in the State Historic Park. Weather permitting\, docents will also lead walks to nearby Frolic Cove and relate the story of the clipper brig Frolic\, wrecked off the cove in July 1850 bound from China to San Francisco with a valuable cargo of Chinese merchandise for the Gold Rush miners and their families. Learn more: http://pointcabrillo.org/visit/events/
X-ALT-DESC;FMTTYPE=text/html:Join us on the second Saturday in June for a Lens Tour to the top of our historic 1909 Lighthouse! From 10am - 4pm on June 8\, we&#39\;ll be offering tours to the Lens Room of the Point Cabrillo Light Station. &bull\; 10am - 4pm &bull\; $5 per person &bull\; Must be 42&quot\; or taller These tours are only offered eight times a year\, and are a treat to experience. You&#39\;ll have excellent views and enticing stories of the lightkeepers that lived on the grounds as you climb the ladders to the top. Tours typically take about 45 minutes altogether\, and a new group goes up every 10-15 minutes! You&#39\;ll stop on each floor and learn fascinating facts from our excellent volunteer docents. Point Cabrillo Lightkeepers Association (PCLK) volunteer docents will highlight Light Station history and local culture with visitor presentations at the Lighthouse and other locations in the State Historic Park. Weather permitting\, docents will also lead walks to nearby Frolic Cove and relate the story of the clipper brig Frolic\, wrecked off the cove in July 1850 bound from China to San Francisco with a valuable cargo of Chinese merchandise for the Gold Rush miners and their families. Learn more: http://pointcabrillo.org/visit/events/
LOCATION:Point Cabrillo Light Station 45300 Litehouse Road Mendocino\, CA 95460
UID:e.2883.11683
SEQUENCE:3
DTSTAMP:20260422T094036Z
URL:http://mendocinocoast.smartcms.site/events/details/lens-tours-at-point-cabrillo-11683
END:VEVENT

END:VCALENDAR
