BEGIN:VCALENDAR
VERSION:2.0
PRODID:-//ChamberMaster//Event Calendar 2.0//EN
METHOD:PUBLISH
X-PUBLISHED-TTL:P3D
REFRESH-INTERVAL:P3D
CALSCALE:GREGORIAN
BEGIN:VEVENT
DTSTART:20190919T190000Z
DTEND:20190919T210000Z
X-MICROSOFT-CDO-ALLDAYEVENT:FALSE
SUMMARY:Learn the Business Basics to Turn Your Ideas into Action
DESCRIPTION:Do you have a passion that you want to turn into profit? Join the 3.9 million other small businesses in California that are turning dreams into reality. This engaging workshop provides you with guidance\, and an overview of elements to consider when starting and owning a business. This is the perfect starting point to build the knowledge you need to succeed\, so sign up to get started today. What you will learn in this workshop: Components of a Business Plan Business Loans Technology Tools for Business Productivity Legal Form of Organization Business Licensing Requirements Financial Readiness Marketing Messages Target Markets
X-ALT-DESC;FMTTYPE=text/html:Do you have a passion that you want to turn into profit? Join the 3.9 million other small businesses in California that are turning dreams into reality. This engaging workshop provides you with guidance\, and an overview of elements to consider when starting and owning a business. This is the perfect starting point to build the knowledge you need to succeed\, so sign up to get started today. What you will learn in this workshop: Components of a Business Plan Business Loans Technology Tools for Business Productivity Legal Form of Organization Business Licensing Requirements Financial Readiness Marketing Messages Target Markets
LOCATION:West Business Development Center: 345 N Franklin St. Fort Bragg\, CA
UID:e.2883.11985
SEQUENCE:3
DTSTAMP:20260422T043512Z
URL:http://mendocinocoast.smartcms.site/events/details/learn-the-business-basics-to-turn-your-ideas-into-action-09-19-2019-11985
END:VEVENT

END:VCALENDAR
